BEGIN:VCALENDAR
VERSION:2.0
PRODID:-//GrowTogether Garden - ECPv6.15.17.1//NONSGML v1.0//EN
CALSCALE:GREGORIAN
METHOD:PUBLISH
X-ORIGINAL-URL:https://www.growtogethergarden.org
X-WR-CALDESC:Events for GrowTogether Garden
REFRESH-INTERVAL;VALUE=DURATION:PT1H
X-Robots-Tag:noindex
X-PUBLISHED-TTL:PT1H
BEGIN:VTIMEZONE
TZID:UTC
BEGIN:STANDARD
TZOFFSETFROM:+0000
TZOFFSETTO:+0000
TZNAME:UTC
DTSTART:20220101T000000
END:STANDARD
END:VTIMEZONE
BEGIN:VEVENT
DTSTART;TZID=UTC:20230527T083000
DTEND;TZID=UTC:20230527T103000
DTSTAMP:20260423T174628
CREATED:20230405T095046Z
LAST-MODIFIED:20230509T104439Z
UID:10000001-1685176200-1685183400@www.growtogethergarden.org
SUMMARY:Irrigation Classes
DESCRIPTION:Irrigation Classes – 2 Dates Available. Pick 1. \n\n\nSaturday\, May 27th @ 8:30 – 10:30 AM\nThursday\, June 1st @ 4:00-5:30 PM\nRegister here: https://www.signupgenius.com/go/70a044aafae28a3fa7-irrigation1#/ \nIf you have trouble registering\, please reply to this email to let us know your attendance.\n\n\nWhen to amend your bed + water before the irrigation class? \n\n\nUntil we are sure to have our last freeze\, the water will be on at the Garden on Saturdays from 9AM – 4 PM so you can come water + amend your beds during  that time.\nIf there are any days during the week that our team will be there working on projects\, we will send an  email to let you know\, and you can come amend and water your garden beds.\nThis is to ensure that the water is properly drained + maintained until we are sure of the last freeze. If it freezes with water in the pipe\, then the pipes will break.
URL:https://www.growtogethergarden.org/event/sample-event
LOCATION:GrowTogether Garden\, 3450 Mustang\, Heber\, AZ\, 85928\, United States
END:VEVENT
END:VCALENDAR