BEGIN:VCALENDAR
VERSION:2.0
PRODID:-//GrowTogether Garden - ECPv6.15.17.1//NONSGML v1.0//EN
CALSCALE:GREGORIAN
METHOD:PUBLISH
X-WR-CALNAME:GrowTogether Garden
X-ORIGINAL-URL:https://www.growtogethergarden.org
X-WR-CALDESC:Events for GrowTogether Garden
REFRESH-INTERVAL;VALUE=DURATION:PT1H
X-Robots-Tag:noindex
X-PUBLISHED-TTL:PT1H
BEGIN:VTIMEZONE
TZID:UTC
BEGIN:STANDARD
TZOFFSETFROM:+0000
TZOFFSETTO:+0000
TZNAME:UTC
DTSTART:20220101T000000
END:STANDARD
END:VTIMEZONE
BEGIN:VEVENT
DTSTART;TZID=UTC:20230624T090000
DTEND;TZID=UTC:20230624T110000
DTSTAMP:20260423T162122
CREATED:20230607T055203Z
LAST-MODIFIED:20230615T191515Z
UID:10000006-1687597200-1687604400@www.growtogethergarden.org
SUMMARY:Work Project Day!
DESCRIPTION:Come help with this work project! Volunteers welcome. We will add hardware cloth to the bottom of the fencing (keeping those critters out). We will also be sealing the outsides of the beds and leveling behind the second rows of beds. So\, something for everyone! Bring a rake if you can\, wear close-toed shoes\, wear sunscreen\, and bring some water. \nRegister here: CLICK HERE\nor REPLY to this email to register \nPlease Complete Volunteer Waiver Form\nAll volunteers must sign this form: CLICK HERE \nWe have made such great progress! Let’s finish strong.
URL:https://www.growtogethergarden.org/event/work-project-day-2
END:VEVENT
BEGIN:VEVENT
DTSTART;TZID=UTC:20230624T140000
DTEND;TZID=UTC:20230624T150000
DTSTAMP:20260423T162122
CREATED:20230608T030515Z
LAST-MODIFIED:20230608T035022Z
UID:10000007-1687615200-1687618800@www.growtogethergarden.org
SUMMARY:Integrated Pest Management
DESCRIPTION:The lovely rains and wet winter can potentially bring many garden pests out this summer. Speaker Michele McGuiness will walk you through Integrated Pest Management (IPM) strategies for garden pest management for our Arizona vegetable gardens. \nShe will talk about how to balance the ecosystem that is your garden so good bugs thrive\, and you create conditions that are unfavorable for those pests that would stop you from having an abundant harvest. \nClass is free to garden members and Friends of the Garden. $5 for non-members.
URL:https://www.growtogethergarden.org/event/integrated-pest-management
LOCATION:Heber-Overgaard Fire District\, 2061 Lumber2061 Lumber Valley Rd\,\, Overgaard\, 85933\, United States
END:VEVENT
END:VCALENDAR