BEGIN:VCALENDAR
VERSION:2.0
PRODID:-//GrowTogether Garden - ECPv6.15.17.1//NONSGML v1.0//EN
CALSCALE:GREGORIAN
METHOD:PUBLISH
X-WR-CALNAME:GrowTogether Garden
X-ORIGINAL-URL:https://www.growtogethergarden.org
X-WR-CALDESC:Events for GrowTogether Garden
REFRESH-INTERVAL;VALUE=DURATION:PT1H
X-Robots-Tag:noindex
X-PUBLISHED-TTL:PT1H
BEGIN:VTIMEZONE
TZID:UTC
BEGIN:STANDARD
TZOFFSETFROM:+0000
TZOFFSETTO:+0000
TZNAME:UTC
DTSTART:20220101T000000
END:STANDARD
END:VTIMEZONE
BEGIN:VEVENT
DTSTART;TZID=UTC:20230706T120000
DTEND;TZID=UTC:20230706T140000
DTSTAMP:20260423T145346
CREATED:20230624T001802Z
LAST-MODIFIED:20230704T051744Z
UID:10000009-1688644800-1688652000@www.growtogethergarden.org
SUMMARY:HOCRN Volunteer Appreciation Luncheon
DESCRIPTION:All those who have volunteered to make the GrowTogether Community Garden a reality are invited to the Volunteer Appreciation Luncheon sponsored by HOCRN at the Heber Fire Station at noon on July 6th. Smoke Show BBQ is providing the food and this will be held at the new garden! We hope to see you there! \n**Please register so we can get an accurate count for them to order food.\n**Click Here to Register. \n 
URL:https://www.growtogethergarden.org/event/hocrn-volunteer-appreciation-luncheon
LOCATION:Heber-Overgaard Fire District\, 2061 Lumber2061 Lumber Valley Rd\,\, Overgaard\, 85933\, United States
END:VEVENT
END:VCALENDAR