BEGIN:VCALENDAR
VERSION:2.0
PRODID:-//GrowTogether Garden - ECPv6.15.17.1//NONSGML v1.0//EN
CALSCALE:GREGORIAN
METHOD:PUBLISH
X-WR-CALNAME:GrowTogether Garden
X-ORIGINAL-URL:https://www.growtogethergarden.org
X-WR-CALDESC:Events for GrowTogether Garden
REFRESH-INTERVAL;VALUE=DURATION:PT1H
X-Robots-Tag:noindex
X-PUBLISHED-TTL:PT1H
BEGIN:VTIMEZONE
TZID:UTC
BEGIN:STANDARD
TZOFFSETFROM:+0000
TZOFFSETTO:+0000
TZNAME:UTC
DTSTART:20220101T000000
END:STANDARD
END:VTIMEZONE
BEGIN:VEVENT
DTSTART;TZID=UTC:20230711T140000
DTEND;TZID=UTC:20230711T160000
DTSTAMP:20260423T145339
CREATED:20230624T002227Z
LAST-MODIFIED:20230704T051833Z
UID:10000010-1689084000-1689091200@www.growtogethergarden.org
SUMMARY:Grand Opening of the GrowTogether Community Garden!
DESCRIPTION:HOCRN is sponsoring the Grand Opening of the community garden on July 11th at 2:00 pm. Refreshments are providing and we hope all of those who have volunteered to create our community garden can attend. This event will be held at the Heber Fire Station from 2-4:00 pm. \n**Please register so we can get an accurate count for them to order food. Please RSVP below:\n**Click Here to Register. \nHope to see you there!
URL:https://www.growtogethergarden.org/event/grand-opening-of-the-growtogether-community-garden
LOCATION:Heber-Overgaard Fire District\, 2061 Lumber2061 Lumber Valley Rd\,\, Overgaard\, 85933\, United States
END:VEVENT
END:VCALENDAR