BEGIN:VCALENDAR
VERSION:2.0
PRODID:-//GrowTogether Garden - ECPv6.15.17.1//NONSGML v1.0//EN
CALSCALE:GREGORIAN
METHOD:PUBLISH
X-ORIGINAL-URL:https://www.growtogethergarden.org
X-WR-CALDESC:Events for GrowTogether Garden
REFRESH-INTERVAL;VALUE=DURATION:PT1H
X-Robots-Tag:noindex
X-PUBLISHED-TTL:PT1H
BEGIN:VTIMEZONE
TZID:UTC
BEGIN:STANDARD
TZOFFSETFROM:+0000
TZOFFSETTO:+0000
TZNAME:UTC
DTSTART:20220101T000000
END:STANDARD
END:VTIMEZONE
BEGIN:VEVENT
DTSTART;TZID=UTC:20230722T140000
DTEND;TZID=UTC:20230722T150000
DTSTAMP:20260423T145411
CREATED:20230608T031903Z
LAST-MODIFIED:20230608T032302Z
UID:10000008-1690034400-1690038000@www.growtogethergarden.org
SUMMARY:Preserving Your Harvest
DESCRIPTION:Have a bountiful harvest but don’t know what to do with it? Bonnie Leedy will provide a high-level view of the many possibilities including: canning\, dehydrating\, freeze-drying\, and fermenting. Come and learn about your options and get an introduction to each (with a future deep-dive into home canning if there is interest). \nClass is free to members and Friends of the Garden. $5 to non-members.
URL:https://www.growtogethergarden.org/event/preserving-your-harvest
LOCATION:Heber-Overgaard Fire District\, 2061 Lumber2061 Lumber Valley Rd\,\, Overgaard\, 85933\, United States
END:VEVENT
END:VCALENDAR