BEGIN:VCALENDAR
VERSION:2.0
PRODID:-//GrowTogether Garden - ECPv6.15.17.1//NONSGML v1.0//EN
CALSCALE:GREGORIAN
METHOD:PUBLISH
X-WR-CALNAME:GrowTogether Garden
X-ORIGINAL-URL:https://www.growtogethergarden.org
X-WR-CALDESC:Events for GrowTogether Garden
REFRESH-INTERVAL;VALUE=DURATION:PT1H
X-Robots-Tag:noindex
X-PUBLISHED-TTL:PT1H
BEGIN:VTIMEZONE
TZID:UTC
BEGIN:STANDARD
TZOFFSETFROM:+0000
TZOFFSETTO:+0000
TZNAME:UTC
DTSTART:20220101T000000
END:STANDARD
END:VTIMEZONE
BEGIN:VEVENT
DTSTART;TZID=UTC:20230819T140000
DTEND;TZID=UTC:20230819T153000
DTSTAMP:20260423T132353
CREATED:20230811T000720Z
LAST-MODIFIED:20240323T050247Z
UID:10000012-1692453600-1692459000@www.growtogethergarden.org
SUMMARY:Vegetable Abundance
DESCRIPTION:Learn how to successfully grow vegetables\, herbs\, and edible flowers in Arizona! \nJoin us for a GrowTogether Community Garden class with master Gardener Michele McGuinnes and learn: \n\nFundamentals for a successful garden\nAn edible landscape\nSuccession planting\nTomato success\nPepper success\nSeed starting vs. store bought\n\n*Michele is a Master Gardener and Educator dedicated to teaching others to create food abundance on their own. She is a founder of the GrowTogether Community Garden and brings extensive experience with community and educational gardening. \nSign-up ASAP\nExchange: Free for Garden Members + Friends of the Garden.\nNon-members: Suggested donation of $5.
URL:https://www.growtogethergarden.org/event/vegetable-abundance
LOCATION:Heber-Overgaard Fire District\, 2061 Lumber2061 Lumber Valley Rd\,\, Overgaard\, 85933\, United States
END:VEVENT
END:VCALENDAR