BEGIN:VCALENDAR
VERSION:2.0
PRODID:-//GrowTogether Garden - ECPv6.15.17.1//NONSGML v1.0//EN
CALSCALE:GREGORIAN
METHOD:PUBLISH
X-WR-CALNAME:GrowTogether Garden
X-ORIGINAL-URL:https://www.growtogethergarden.org
X-WR-CALDESC:Events for GrowTogether Garden
REFRESH-INTERVAL;VALUE=DURATION:PT1H
X-Robots-Tag:noindex
X-PUBLISHED-TTL:PT1H
BEGIN:VTIMEZONE
TZID:UTC
BEGIN:STANDARD
TZOFFSETFROM:+0000
TZOFFSETTO:+0000
TZNAME:UTC
DTSTART:20230101T000000
END:STANDARD
END:VTIMEZONE
BEGIN:VEVENT
DTSTART;TZID=UTC:20240511T090000
DTEND;TZID=UTC:20240511T230000
DTSTAMP:20260422T213229
CREATED:20240424T111650Z
LAST-MODIFIED:20240424T120509Z
UID:10000040-1715418000-1715468400@www.growtogethergarden.org
SUMMARY:Spring Clean Up! ALL VOLUNTEER DAY!
DESCRIPTION:Please come help us get the garden in shape for the season! We will be weeding\, checking irrigation for your beds\, and (fingers crossed) setting up our new shed! We want to make sure our garden is beautiful for the spring plant sale and open garden the following Saturday. \nIf you are a new garden member\, there will be an irrigation installation class. If you are an old hand you can still check out your irrigation and make sure everything works. \nWear closed-toe shoes and work gloves\, and bring water. If you have a rake or other tool that will help\, bring it. Oh\, and wear a smile! \nPlease RSVP here!
URL:https://www.growtogethergarden.org/event/spring-clean-up-all-volunteer-day
LOCATION:GrowTogether Garden\, 3450 Mustang\, Heber\, AZ\, 85928\, United States
ORGANIZER;CN="H/O Community Garden":MAILTO:dig@growtogethergarden.org
END:VEVENT
BEGIN:VEVENT
DTSTART;TZID=UTC:20240511T140000
DTEND;TZID=UTC:20240511T153000
DTSTAMP:20260422T213229
CREATED:20240307T053204Z
LAST-MODIFIED:20240424T111010Z
UID:10000026-1715436000-1715441400@www.growtogethergarden.org
SUMMARY:Vegetable Abundance
DESCRIPTION:Join us for our upcoming class: Vegetable Abundance!\n\nDate: Saturday\, May 11\, 2024\nTime: 2:00-3:30 pm\nLocation: Heber-Overgaard Fire Station\n\nLimited to 50 attendees.\n\nRegister here!\n \nLearn the art of growing abundant vegetables\n \nYou will learn:\n\n\nCome learn 10 fundamentals of vegetable gardening to create your own Vegetable Abundance this year!\nWalk away with a better understanding of fertilization\, pollination\, and vegetable varieties that you will love.\nCome enhance your knowledge of how to create an edible landscape with herbs\, flowers\, and fruits.\n\nAbout the Speaker:  Michele McGuinness loves growing food and edible flowers. She has been gardening since childhood and has been a Master Gardener since 2017. She currently teaches vegetable gardening\, integrated pest management and other growing classes for the Maricopa Master Gardener program and here in Heber for the GrowTogetherGarden. She runs the Yavapai school garden and works weekly with kids to teach them how to eat what they grow. \n\nExchange: Free for Garden Members + Friends of the Garden.\nNon-members: Suggested donation of $5.\nAnd yes\, there will be a raffle!!
URL:https://www.growtogethergarden.org/event/vegetable-abundance-2
LOCATION:Heber-Overgaard Fire District\, 2061 Lumber2061 Lumber Valley Rd\,\, Overgaard\, 85933\, United States
ORGANIZER;CN="H/O Community Garden":MAILTO:dig@growtogethergarden.org
END:VEVENT
END:VCALENDAR