BEGIN:VCALENDAR
VERSION:2.0
PRODID:-//GrowTogether Garden - ECPv6.15.17.1//NONSGML v1.0//EN
CALSCALE:GREGORIAN
METHOD:PUBLISH
X-WR-CALNAME:GrowTogether Garden
X-ORIGINAL-URL:https://www.growtogethergarden.org
X-WR-CALDESC:Events for GrowTogether Garden
REFRESH-INTERVAL;VALUE=DURATION:PT1H
X-Robots-Tag:noindex
X-PUBLISHED-TTL:PT1H
BEGIN:VTIMEZONE
TZID:UTC
BEGIN:STANDARD
TZOFFSETFROM:+0000
TZOFFSETTO:+0000
TZNAME:UTC
DTSTART:20230101T000000
END:STANDARD
END:VTIMEZONE
BEGIN:VEVENT
DTSTART;TZID=UTC:20240713T140000
DTEND;TZID=UTC:20240713T153000
DTSTAMP:20260422T101931
CREATED:20240307T054117Z
LAST-MODIFIED:20240711T231627Z
UID:10000031-1720879200-1720884600@www.growtogethergarden.org
SUMMARY:Integrated Pest Management
DESCRIPTION:Are garden pests driving you mad? Join our next GrowTogether HOCRN Community Garden Class: \nIntegrated Pest Management: What’s Bugging You? \nLocation: Heber-Overgaard Fire Dept. Community Room\, 2061 Lumber Valley Rd.\, Overgaard \nDate: Saturday\, July 13th \nTime: 2-3:30 PM \nLimited to 50 attendees. \nRegister Here!\nThe lovely rains and wet winter have the potential to bring many garden pests out this summer. \n\nSpeaker Michele McGuiness will walk you through Integrated Pest Management (IPM) strategies for garden pest management for our Arizona vegetable gardens.\nShe will talk about how to balance the ecosystem that is your garden so good bugs thrive and you create conditions that are unfavorable for those pests that would stop you from having an abundant harvest.\n\nAbout the Speaker: Michele McGuinness loves growing food and edible flowers. She has been gardening since childhood and has been a Master Gardener since 2017. She teaches vegetable gardening\, integrated pest management\, and other growing classes for the Maricopa Master Gardener program and here in Heber for the HOCRN GrowTogetherGarden. Michele also runs the Yavapai school garden and works weekly with kids to teach them how to eat what they grow and is currently researching to author a book on vegetable gardening in the high and low desert of Arizona. \nExchange: Free for Garden Members + Friends of the Garden.\nNon-members: Suggested donation of $5. \nNot a Friend of the Garden Yet? Sign Up Here: \nhttps://forms.gle/a6fUWLfjM5fWZS48A
URL:https://www.growtogethergarden.org/event/integrated-pest-management-2
LOCATION:Senior Community Center\, 2171 B Street / PO Box 193\, Overgaard\, AZ\, 85933\, United States
ORGANIZER;CN="H/O Community Garden":MAILTO:dig@growtogethergarden.org
END:VEVENT
END:VCALENDAR