BEGIN:VCALENDAR
VERSION:2.0
PRODID:-//GrowTogether Garden - ECPv6.15.17.1//NONSGML v1.0//EN
CALSCALE:GREGORIAN
METHOD:PUBLISH
X-ORIGINAL-URL:https://www.growtogethergarden.org
X-WR-CALDESC:Events for GrowTogether Garden
REFRESH-INTERVAL;VALUE=DURATION:PT1H
X-Robots-Tag:noindex
X-PUBLISHED-TTL:PT1H
BEGIN:VTIMEZONE
TZID:UTC
BEGIN:STANDARD
TZOFFSETFROM:+0000
TZOFFSETTO:+0000
TZNAME:UTC
DTSTART:20230101T000000
END:STANDARD
END:VTIMEZONE
BEGIN:VEVENT
DTSTART;TZID=UTC:20240719T090000
DTEND;TZID=UTC:20240719T100000
DTSTAMP:20260422T090755
CREATED:20240712T074333Z
LAST-MODIFIED:20240712T074334Z
UID:10000048-1721379600-1721383200@www.growtogethergarden.org
SUMMARY:Help the Kids Build Worm Farms!
DESCRIPTION:We’re helping the kids build worm farms. Come out and help! We need: \n\nDonated shoeboxes\nVolunteers to help\n\nEmail us at dig@growtogethergarden.org and let us know if you can join us!
URL:https://www.growtogethergarden.org/event/help-the-kids-build-worm-farms
LOCATION:GrowTogether Garden\, 3450 Mustang\, Heber\, AZ\, 85928\, United States
ORGANIZER;CN="H/O Community Garden":MAILTO:dig@growtogethergarden.org
END:VEVENT
END:VCALENDAR