BEGIN:VCALENDAR
VERSION:2.0
PRODID:-//GrowTogether Garden - ECPv6.15.17.1//NONSGML v1.0//EN
CALSCALE:GREGORIAN
METHOD:PUBLISH
X-ORIGINAL-URL:https://www.growtogethergarden.org
X-WR-CALDESC:Events for GrowTogether Garden
REFRESH-INTERVAL;VALUE=DURATION:PT1H
X-Robots-Tag:noindex
X-PUBLISHED-TTL:PT1H
BEGIN:VTIMEZONE
TZID:America/Phoenix
BEGIN:STANDARD
TZOFFSETFROM:-0700
TZOFFSETTO:-0700
TZNAME:MST
DTSTART:20240101T000000
END:STANDARD
END:VTIMEZONE
BEGIN:VEVENT
DTSTART;TZID=America/Phoenix:20250607T100000
DTEND;TZID=America/Phoenix:20250607T130000
DTSTAMP:20260421T161758
CREATED:20250124T225946Z
LAST-MODIFIED:20250319T203238Z
UID:10000059-1749290400-1749301200@www.growtogethergarden.org
SUMMARY:Community Resource Network Day
DESCRIPTION:Join us at Community Resource Day on Saturday\, June 7\, 2025\n10 am to 1 pm\, Tall Timbers Park\, Overgaard\, AZ \n\nFREE Hot Dogs & Ice Cream\nActivity for Kids\nDrawings too!\n\nOver 50 non-profit organizations serving the Heber-Overgaard community will be represented. Come and enjoy the day and see all our community has to offer!
URL:https://www.growtogethergarden.org/event/community-resource-network-day
LOCATION:Tall Timbers Park\, AZ 260\, Heber\, AZ\, 85928\, United States
END:VEVENT
END:VCALENDAR