BEGIN:VCALENDAR
VERSION:2.0
PRODID:-//GrowTogether Garden - ECPv6.15.17.1//NONSGML v1.0//EN
CALSCALE:GREGORIAN
METHOD:PUBLISH
X-ORIGINAL-URL:https://www.growtogethergarden.org
X-WR-CALDESC:Events for GrowTogether Garden
REFRESH-INTERVAL;VALUE=DURATION:PT1H
X-Robots-Tag:noindex
X-PUBLISHED-TTL:PT1H
BEGIN:VTIMEZONE
TZID:America/Phoenix
BEGIN:STANDARD
TZOFFSETFROM:-0700
TZOFFSETTO:-0700
TZNAME:MST
DTSTART:20240101T000000
END:STANDARD
END:VTIMEZONE
BEGIN:VEVENT
DTSTART;VALUE=DATE:20250705
DTEND;VALUE=DATE:20250706
DTSTAMP:20260421T150213
CREATED:20250124T230442Z
LAST-MODIFIED:20250124T230505Z
UID:10000061-1751673600-1751759999@www.growtogethergarden.org
SUMMARY:Community Garden Closed!
DESCRIPTION:Details forthcoming. Mark your calendars!
URL:https://www.growtogethergarden.org/event/community-garden-closed
LOCATION:GrowTogether Garden\, 3450 Mustang\, Heber\, AZ\, 85928\, United States
END:VEVENT
END:VCALENDAR