BEGIN:VCALENDAR
VERSION:2.0
PRODID:-//GrowTogether Garden - ECPv6.15.17.1//NONSGML v1.0//EN
CALSCALE:GREGORIAN
METHOD:PUBLISH
X-WR-CALNAME:GrowTogether Garden
X-ORIGINAL-URL:https://www.growtogethergarden.org
X-WR-CALDESC:Events for GrowTogether Garden
REFRESH-INTERVAL;VALUE=DURATION:PT1H
X-Robots-Tag:noindex
X-PUBLISHED-TTL:PT1H
BEGIN:VTIMEZONE
TZID:America/Phoenix
BEGIN:STANDARD
TZOFFSETFROM:-0700
TZOFFSETTO:-0700
TZNAME:MST
DTSTART:20240101T000000
END:STANDARD
END:VTIMEZONE
BEGIN:VEVENT
DTSTART;TZID=America/Phoenix:20250708T090000
DTEND;TZID=America/Phoenix:20250708T100000
DTSTAMP:20260421T150102
CREATED:20250124T232235Z
LAST-MODIFIED:20250414T184407Z
UID:10000068-1751965200-1751968800@www.growtogethergarden.org
SUMMARY:Kids Grow in the Garden: Garden Hunting
DESCRIPTION:Bring the kids to the community garden for a scavenger hunt. They will be amazed at what they can find! \nWho: Children ages 5 and up\nTime: 9:00-10:00 am\nWhere: Community garden\, 3450 Mustang Avenue\, Heber\, Arizona (located in the field between the high school and the bus barn)
URL:https://www.growtogethergarden.org/event/kids-grow-in-the-garden-garden-hunting
LOCATION:GrowTogether Garden\, 3450 Mustang\, Heber\, AZ\, 85928\, United States
ORGANIZER;CN="H/O Community Garden":MAILTO:dig@growtogethergarden.org
END:VEVENT
END:VCALENDAR