BEGIN:VCALENDAR
VERSION:2.0
PRODID:-//GrowTogether Garden - ECPv6.15.17.1//NONSGML v1.0//EN
CALSCALE:GREGORIAN
METHOD:PUBLISH
X-ORIGINAL-URL:https://www.growtogethergarden.org
X-WR-CALDESC:Events for GrowTogether Garden
REFRESH-INTERVAL;VALUE=DURATION:PT1H
X-Robots-Tag:noindex
X-PUBLISHED-TTL:PT1H
BEGIN:VTIMEZONE
TZID:America/Phoenix
BEGIN:STANDARD
TZOFFSETFROM:-0700
TZOFFSETTO:-0700
TZNAME:MST
DTSTART:20240101T000000
END:STANDARD
END:VTIMEZONE
BEGIN:VEVENT
DTSTART;TZID=America/Phoenix:20250809T080000
DTEND;TZID=America/Phoenix:20250809T150000
DTSTAMP:20260421T133345
CREATED:20250124T223721Z
LAST-MODIFIED:20250805T151747Z
UID:10000051-1754726400-1754751600@www.growtogethergarden.org
SUMMARY:Local Garden Tours
DESCRIPTION:On August 9\, from 8:00 am to 3:00 pm\, enjoy a day touring 14 gardens in Heber-Overgaard and visiting with the gardeners. Fill your car with friends and make a day of it! \nYou will: \n\nStart at the GROWtogether HOCRN Community Garden to receive your map and an entrance pass.\nTravel to each home to enjoy the gardens and learn from the various gardeners.\nYou will see a wide variety of plantings and techniques.\nSelf-paced; spend your time where you’re most interested.\nSee what experienced gardeners are growing in H/O\, and how they do it.\n\nAbout the Gardens: We have all kinds of gardens for you to see! Vegetables\, flowers\, orchards\, berries\, grapes\, and lots of different techniques. There will be something new to discover for everyone! \nTickets: $20 \nBuy Your Ticket Today!
URL:https://www.growtogethergarden.org/event/local-garden-tours-2
END:VEVENT
END:VCALENDAR