BEGIN:VCALENDAR
VERSION:2.0
PRODID:-//GrowTogether Garden - ECPv6.15.17.1//NONSGML v1.0//EN
CALSCALE:GREGORIAN
METHOD:PUBLISH
X-WR-CALNAME:GrowTogether Garden
X-ORIGINAL-URL:https://www.growtogethergarden.org
X-WR-CALDESC:Events for GrowTogether Garden
REFRESH-INTERVAL;VALUE=DURATION:PT1H
X-Robots-Tag:noindex
X-PUBLISHED-TTL:PT1H
BEGIN:VTIMEZONE
TZID:America/Phoenix
BEGIN:STANDARD
TZOFFSETFROM:-0700
TZOFFSETTO:-0700
TZNAME:MST
DTSTART:20250101T000000
END:STANDARD
END:VTIMEZONE
BEGIN:VEVENT
DTSTART;TZID=America/Phoenix:20260228T140000
DTEND;TZID=America/Phoenix:20260228T153000
DTSTAMP:20260421T035005
CREATED:20251106T092319Z
LAST-MODIFIED:20260206T000100Z
UID:10000070-1772287200-1772292600@www.growtogethergarden.org
SUMMARY:Sow Smart! Everything you need to know about seed starting or soil blocking.
DESCRIPTION:Date: Saturday\, February 28\, 2026\nTime: 2:00 – 3:30 PM\nLocation: Heber-Overgaard Fire Station\, 2061 Lumber Valley Rd\, Overgaard\, AZ\n\nCome discover the most fun (and best-kept secret!) of gardening in the high country—seed starting! Whether you’re a first-timer or a seasoned grower\, you’ll learn how to turn tiny seeds into thriving plants. You’ll leave ready (and excited!) to start your own seedlings at home—with pro tips\, planting hacks\, and inspiration galore. You’ll also learn about soil-blocking for seed starting and an alternative method called snail-plant starting\, a great way to start many plants in a small space without needing many pots or gardening supplies. \nYou’ll learn: \n\nFive easy\, no-fail strategies for seed-starting success (no fancy equipment required!)\nWhich seeds to start—and when to give your plants the perfect head start\nCreative DIY seed-starting setups\, from recycled containers to grow lights on a budget\nHow to test seed viability (so you don’t waste time on duds)\nWatering\, fertilizing\, and light tips for strong\, healthy seedlings\nTransplanting secrets: how and when to move your starts outdoors safely\nMaster the basics of soil blocking\, including tips forming durable\, healthy soil blocks.\nBonus: Fun ways to label\, track\, and organize your seeds like a pro\, and recipes for DIY soil-blocking.\nTake-home inspiration: Seed-starting calendar template\, germination chart\, and a few starter seeds to get you growing!\n\n\nRegister Today!\n\nAbout the Speakers: \n\nBonnie Leedy is an Arizona Certified Master Gardener and has been growing here in Heber-Overgaard for six years. She loves the rewards of growing from seed\, starting to preserving her produce\, and every step in between. Come benefit from her research\, mistakes\, and successes\, and learn how to grow in our high-country area.\nKaty Neild grew up gardening\, harvesting\, and preserving at the feet of her grandmother in Northern New York. Most of her gardening experience has been in New York and Pennsylvania\, but she has loved the challenge of learning to garden (more or less) successfully in Heber-Overgaard\, and recently became an Arizona Certified Master Gardener for High Elevations. She enjoys sharing her garden and skills with others.\nColleen Halverson was an original member of our Community Garden\, and although she has had gardens on and off for years\, she has learned so much from her fellow gardeners here. She says\, “I didn’t know what I didn’t know.” She’s excited to show us an inexpensive new way to start seeds.\n\nExchange: Free for Garden Members + Friends of the Garden. \nNon-members: Suggested donation of $5. 
URL:https://www.growtogethergarden.org/event/sow-smart-everything-you-need-to-know-about-seed-starting-and-saving
LOCATION:Heber-Overgaard Fire District\, 2061 Lumber2061 Lumber Valley Rd\,\, Overgaard\, 85933\, United States
END:VEVENT
END:VCALENDAR