BEGIN:VCALENDAR
VERSION:2.0
PRODID:-//GrowTogether Garden - ECPv6.15.17.1//NONSGML v1.0//EN
CALSCALE:GREGORIAN
METHOD:PUBLISH
X-ORIGINAL-URL:https://www.growtogethergarden.org
X-WR-CALDESC:Events for GrowTogether Garden
REFRESH-INTERVAL;VALUE=DURATION:PT1H
X-Robots-Tag:noindex
X-PUBLISHED-TTL:PT1H
BEGIN:VTIMEZONE
TZID:America/Phoenix
BEGIN:STANDARD
TZOFFSETFROM:-0700
TZOFFSETTO:-0700
TZNAME:MST
DTSTART:20250101T000000
END:STANDARD
END:VTIMEZONE
BEGIN:VEVENT
DTSTART;TZID=America/Phoenix:20260306T130000
DTEND;TZID=America/Phoenix:20260306T150000
DTSTAMP:20260421T013952
CREATED:20260224T015607Z
LAST-MODIFIED:20260224T023433Z
UID:10000074-1772802000-1772809200@www.growtogethergarden.org
SUMMARY:Seed Snail & Milk-Jug Winter Sowing
DESCRIPTION:We’ll be learning how to make inexpensive winter seed-sowing solutions. Members only (limit of 15 attendees). Details sent directly to those registered. \nMember Only Pop-Up Class Registration
URL:https://www.growtogethergarden.org/event/seed-snail-milk-jug-winter-sowing
END:VEVENT
END:VCALENDAR