BEGIN:VCALENDAR
VERSION:2.0
PRODID:-//GrowTogether Garden - ECPv6.15.17.1//NONSGML v1.0//EN
CALSCALE:GREGORIAN
METHOD:PUBLISH
X-ORIGINAL-URL:https://www.growtogethergarden.org
X-WR-CALDESC:Events for GrowTogether Garden
REFRESH-INTERVAL;VALUE=DURATION:PT1H
X-Robots-Tag:noindex
X-PUBLISHED-TTL:PT1H
BEGIN:VTIMEZONE
TZID:America/Phoenix
BEGIN:STANDARD
TZOFFSETFROM:-0700
TZOFFSETTO:-0700
TZNAME:MST
DTSTART:20250101T000000
END:STANDARD
END:VTIMEZONE
BEGIN:VEVENT
DTSTART;TZID=America/Phoenix:20260307T130000
DTEND;TZID=America/Phoenix:20260307T143000
DTSTAMP:20260421T021820
CREATED:20260224T024034Z
LAST-MODIFIED:20260224T040832Z
UID:10000075-1772888400-1772893800@www.growtogethergarden.org
SUMMARY:Pop-Up Class: Hands-On Soil Blocking
DESCRIPTION:Date: Saturday\, March 7\, 2026\nTime: 1:00 – 2:30 PM\nLocation: Will be provided upon registration. Limit of 8 attendees (Garden Members Only at Pop-Up Events). \nIn this hands-on class\, you’ll create soil blocks for seed starting. This simple\, low-cost method produces strong\, resilient seedlings without the need for pots. Avoid plastics and encourage air pruning for successful transplants. \nWhat You’ll Learn\n\nUse soil blockers to make seed-starting blocks for the GROWtogether garden and for your own\, if you’d like.\nGet some practice\, and I’ll guide you in building your soil-blocking skills.\nSee my seed-starting setup and learn how I care for the blocked seedlings.\nMake your own soil blocks to bring home\, please bring a bag of your favorite potting soil (or contact host for suggestions -she will contact participants with ideas as well)\, and a solid like a 10″ x 20″ plant tray to carry them on.\n\nYour Pop-up Class Hosts: \n\nKaty Neild\n\nPop-up Classes are only available to Garden Members\, Friends\, or Bed Stewards.  \nRegister Here!
URL:https://www.growtogethergarden.org/event/pop-up-class-hands-on-soil-blocking
END:VEVENT
END:VCALENDAR