BEGIN:VCALENDAR
VERSION:2.0
PRODID:-//GrowTogether Garden - ECPv6.15.17.1//NONSGML v1.0//EN
CALSCALE:GREGORIAN
METHOD:PUBLISH
X-WR-CALNAME:GrowTogether Garden
X-ORIGINAL-URL:https://www.growtogethergarden.org
X-WR-CALDESC:Events for GrowTogether Garden
REFRESH-INTERVAL;VALUE=DURATION:PT1H
X-Robots-Tag:noindex
X-PUBLISHED-TTL:PT1H
BEGIN:VTIMEZONE
TZID:America/Phoenix
BEGIN:STANDARD
TZOFFSETFROM:-0700
TZOFFSETTO:-0700
TZNAME:MST
DTSTART:20250101T000000
END:STANDARD
END:VTIMEZONE
BEGIN:VEVENT
DTSTART;TZID=America/Phoenix:20260328T170000
DTEND;TZID=America/Phoenix:20260328T183000
DTSTAMP:20260421T082342
CREATED:20260224T045722Z
LAST-MODIFIED:20260224T045722Z
UID:10000078-1774717200-1774722600@www.growtogethergarden.org
SUMMARY:Beekeeping for Beginners
DESCRIPTION:Date: Saturday\, March 28\, 2026\nTime: 5:00-6:30 PM\nLocation: Heber-Overgaard Fire Station\, 2061 Lumber Valley Rd\, Overgaard\, AZ\n\nLimited to 40 attendees. \n \nComplete Registration below:\n\nAn overview of how to get started in beekeeping\, equipment needed\, what to expect\, and Q&A session. I am going to assume people attending are new to beekeeping and when they leave they will have a good foundation and the confidence to get started.\n\nYou’ll learn: \n\n\nResources for getting started\nEquipment needed to get started\nWhere to Place your hive\nWhich hive is best for beginners\nHow to Acquire bees for your hive\nWhich bee breeds are recommended for beginners\nDifference between Queen\, Worker and Drone\nWhat to look for when doing an inspection of your hive\nOverview of extracting honey\n\n\n\nWhat to bring: A way to take notes and your questions!\n\nAbout the Speaker:  Greg Kruel: What began as a quiet evening at home—my wife flipping through a magazine while I watched television—unexpectedly sparked a life-changing journey into beekeeping. Once the idea took hold\, I dove headfirst into learning everything I could about honeybees. I joined our local beekeeping association\, devoured books\, and completed an online course\, each step deepening my fascination with these incredible insects.\n\nRegister Today!
URL:https://www.growtogethergarden.org/event/beekeeping-for-beginners-2
LOCATION:Heber-Overgaard Fire District\, 2061 Lumber2061 Lumber Valley Rd\,\, Overgaard\, 85933\, United States
END:VEVENT
END:VCALENDAR