BEGIN:VCALENDAR
VERSION:2.0
PRODID:-//GrowTogether Garden - ECPv6.15.17.1//NONSGML v1.0//EN
CALSCALE:GREGORIAN
METHOD:PUBLISH
X-ORIGINAL-URL:https://www.growtogethergarden.org
X-WR-CALDESC:Events for GrowTogether Garden
REFRESH-INTERVAL;VALUE=DURATION:PT1H
X-Robots-Tag:noindex
X-PUBLISHED-TTL:PT1H
BEGIN:VTIMEZONE
TZID:America/Phoenix
BEGIN:STANDARD
TZOFFSETFROM:-0700
TZOFFSETTO:-0700
TZNAME:MST
DTSTART:20250101T000000
END:STANDARD
END:VTIMEZONE
BEGIN:VEVENT
DTSTART;TZID=America/Phoenix:20260530T140000
DTEND;TZID=America/Phoenix:20260530T153000
DTSTAMP:20260421T021815
CREATED:20260224T204712Z
LAST-MODIFIED:20260224T210318Z
UID:10000081-1780149600-1780155000@www.growtogethergarden.org
SUMMARY:Bloom Where You're Planted
DESCRIPTION:Date: Saturday\, May 30\, 2026\nTime: 2-3:30 PM\nLocation: Heber-Overgaard Fire Station\, 2061 Lumber Valley Rd\, Overgaard\, AZ\n\nLimited to 40 attendees. \n\nComplete registration below. \n \nKayla & Katy will discuss our unique growing conditions & soil\, and suggest many species of flowering plants that love growing here. You’ll go home with a list of suggestions and a flower growing calendar to help you succeed.\n \nYou’ll learn:\n\n\n Our climate\, soil\, and growing challenges\, and how to overcome them\n Growing annuals\, biennials\, perennials\, and native plants in Navajo County\n Flower bed maintenance and overcoming common obstacles\n See a variety of live samples to help you identify what you’d like to grow\n Go home with a task calendar to keep you growing strong\n\n\n\n\nWhat to bring?  Your questions and something to take notes with! \n\n\nAbout the Speakers: Katy Neild grew up gardening\, harvesting\, and preserving with her grandmother in Northern New York. Most of her gardening experience has been in New York and Pennsylvania\, and she loves the challenge of learning to garden (more or less) successfully in Heber-Overgaard. She recently became an Arizona Certified Master Gardener for High Elevations. She enjoys sharing her garden and skills with others.\n \nKayla McKernan has been a Mogollon Rim native for over 35 years. Since childhood\, she’s had a profound love for our forest and lakes\, thanks to grandparents who have been here since the 1960’s. Her life is about gardening and providing a natural life for her family; however\, her passion is outdoor adventure and turning those experiences into useful products for daily life. Through the years\, she has gained knowledge about a wide variety of flowering plants\, trees\, vegetables\, and especially native plants. She and Josh own Rim Roots Nursery and are a great resource for local gardeners.\n\nRegister Today!
URL:https://www.growtogethergarden.org/event/bloom-where-youre-planted
LOCATION:Heber-Overgaard Fire District\, 2061 Lumber2061 Lumber Valley Rd\,\, Overgaard\, 85933\, United States
END:VEVENT
END:VCALENDAR