BEGIN:VCALENDAR
VERSION:2.0
PRODID:-//GrowTogether Garden - ECPv6.15.17.1//NONSGML v1.0//EN
CALSCALE:GREGORIAN
METHOD:PUBLISH
X-WR-CALNAME:GrowTogether Garden
X-ORIGINAL-URL:https://www.growtogethergarden.org
X-WR-CALDESC:Events for GrowTogether Garden
REFRESH-INTERVAL;VALUE=DURATION:PT1H
X-Robots-Tag:noindex
X-PUBLISHED-TTL:PT1H
BEGIN:VTIMEZONE
TZID:UTC
BEGIN:STANDARD
TZOFFSETFROM:+0000
TZOFFSETTO:+0000
TZNAME:UTC
DTSTART:20220101T000000
END:STANDARD
END:VTIMEZONE
BEGIN:VEVENT
DTSTART;TZID=UTC:20230902T140000
DTEND;TZID=UTC:20230902T153000
DTSTAMP:20260423T101637
CREATED:20230816T110333Z
LAST-MODIFIED:20230816T110915Z
UID:10000015-1693663200-1693668600@www.growtogethergarden.org
SUMMARY:The Basics of Canning
DESCRIPTION:For those who had requested a class on the basics of canning (during our Preserving Your Harvest class)\, we will offer a follow-up class on September 2 from 2:00-3:30 pm. Bonnie Leedy will teach from her home and will contact those who signed up. If you would like to attend\, but didn’t sign up\, email Bonnie directly.
URL:https://www.growtogethergarden.org/event/the-basics-of-canning
LOCATION:Leedy’s Home\, 3085 Aspen Rd.\, Overgaard\, AZ\, 85933\, United States
END:VEVENT
BEGIN:VEVENT
DTSTART;TZID=UTC:20230907T180000
DTEND;TZID=UTC:20230907T193000
DTSTAMP:20260423T101637
CREATED:20230814T214054Z
LAST-MODIFIED:20230816T103204Z
UID:10000013-1694109600-1694115000@www.growtogethergarden.org
SUMMARY:Basics of Seed Saving
DESCRIPTION:Saving seeds from your successful vegetables and flower is easy\, fun\, saves you money\, and leads to better-adapted plants. \nJoin us for an introduction to this seed-saving class. Learn the reasons why you should: \n\nsave seeds\nbasic botany for gardeners\nwhat types of seeds are recommended for saving\nhow to ensure healthy\, true-to-type saved seeds.\n\nWe will also cover tool and equipment recommendations as well as tips and tricks to get the most out of the seeds you save\, as well as ways to share your saved seeds with your community. \n*Melissa Kruse-Peeples is a certified Master Gardener with the Maricopa County Master Gardeners program\, a Community Garden Coordinator with ASU Garden Commons\, and former Seed Educator with Native Seeds/SEARCH. She has co-authored the regional guide Saving Seeds in the Southwest: Techniques for Seed Stewardship in Aridlands. Melissa has a PhD in Anthropology from Arizona State University where she investigated the sustainability of ancient farming practices in the Southwest. Her motto is that your garden and your seed stash can never be too large as there will always be people to share it with.  \n 
URL:https://www.growtogethergarden.org/event/basics-of-seed-saving
LOCATION:Heber-Overgaard Fire District\, 2061 Lumber2061 Lumber Valley Rd\,\, Overgaard\, 85933\, United States
END:VEVENT
BEGIN:VEVENT
DTSTART;TZID=UTC:20230916T140000
DTEND;TZID=UTC:20230916T153000
DTSTAMP:20260423T101637
CREATED:20230816T111317Z
LAST-MODIFIED:20230915T054631Z
UID:10000016-1694872800-1694878200@www.growtogethergarden.org
SUMMARY:Putting Your Garden to Bed for the Winter
DESCRIPTION:Leti Porter will teach us how to prepare our garden beds for winter. \n\nReady to be done in the garden for the season? Let’s talk about it! \nRegister Here!\n\n\n\nSteps/Considerations to Prepare for Winter\nSoil Building\nThe Value of Cover Crops\nPlanting Ahead\n\nAbout the Speaker: Leti Porter\n\n\n\nLeti Porter is an Organic Grower and jokes that she really is in the business of growing people\, mostly kids. She has been growing her entire life thanks to her dad\, who took the time to teach her when she was young that there was so much more to gardening than just pulling weeds. She finds joy in learning about life and how to grow in real time in her favorite place—Nature. She believes that the earth has the ability to heal us and that it is our responsibility to protect it by growing things\, especially each other. \nLeti planted her roots in Heber 20 years ago and still claims it is the perfect place to raise free-range kids and build community by creating opportunities/space for others to gather and grow. Her background is Human Nutrition• organic growing• planting flowers & trees• common sense• hard work• building relationships• constantly learning from others• serving• loving people• mothering & making her family and her faith in God a priority. \n\nExchange: Free for Garden Members + Friends of the Garden. \nNon-members: Suggested donation of $5. 
URL:https://www.growtogethergarden.org/event/putting-your-garden-to-bed-for-the-winter
LOCATION:Heber-Overgaard Fire District\, 2061 Lumber2061 Lumber Valley Rd\,\, Overgaard\, 85933\, United States
END:VEVENT
BEGIN:VEVENT
DTSTART;TZID=UTC:20230923T170000
DTEND;TZID=UTC:20230923T190000
DTSTAMP:20260423T101637
CREATED:20230918T010948Z
LAST-MODIFIED:20230918T010948Z
UID:10000018-1695488400-1695495600@www.growtogethergarden.org
SUMMARY:Garden Party Potluck
DESCRIPTION:Join us for a Garden Social! \nDate: Saturday\, Sept. 23\, 2023\nTime: 5:00 – 7:00 pm\nLocation: Community Garden \nSIGN UP Today!\nDetails: \n\nBYOC (chair) and BYOB (non-alcoholic – the garden is on school property).\nBring something to share (Main Dish\, Side Dish\, or Dessert).\nPlates\, plasticware\, napkins\, and lemonade will be provided.\nThere will be Door Prizes!!
URL:https://www.growtogethergarden.org/event/garden-party-potluck-2
LOCATION:GrowTogether Garden\, 3450 Mustang\, Heber\, AZ\, 85928\, United States
END:VEVENT
END:VCALENDAR