BEGIN:VCALENDAR
VERSION:2.0
PRODID:-//GrowTogether Garden - ECPv6.15.17.1//NONSGML v1.0//EN
CALSCALE:GREGORIAN
METHOD:PUBLISH
X-ORIGINAL-URL:https://www.growtogethergarden.org
X-WR-CALDESC:Events for GrowTogether Garden
REFRESH-INTERVAL;VALUE=DURATION:PT1H
X-Robots-Tag:noindex
X-PUBLISHED-TTL:PT1H
BEGIN:VTIMEZONE
TZID:UTC
BEGIN:STANDARD
TZOFFSETFROM:+0000
TZOFFSETTO:+0000
TZNAME:UTC
DTSTART:20220101T000000
END:STANDARD
END:VTIMEZONE
BEGIN:VEVENT
DTSTART;TZID=UTC:20231104T140000
DTEND;TZID=UTC:20231104T160000
DTSTAMP:20260423T091955
CREATED:20231025T015857Z
LAST-MODIFIED:20231025T021603Z
UID:10000019-1699106400-1699113600@www.growtogethergarden.org
SUMMARY:The Sustenance of Life: BREAD
DESCRIPTION:Join us for a frequently requested class on the basics of bread making. \nYou’ll learn: \n\nNutritional value of homemade bread/sourdough\nTechniques for sourdough management\, English muffins\, and whole wheat sandwich bread\nRecipes for glass bread and everyday sourdough\n\nAlso: free sourdough starter for all participants! \nSign Up TODAY!\n  \nThree of Our Favorite Speakers: Leti Porter\, Michele McGuinness\, and Bonnie Leedy\n\n\nLearn from three experienced bread bakers! Leti will share from her nutrition background the benefits of sourdough and baking your own bread. Michele will concentrate on sourdough techniques and Bonnie is known for her fresh whole-grain creations. Get the whole picture to get you started\, and go home with some sourdough starter and recipes to begin your journey!\n\n\nExchange: Free for Garden Members + Friends of the Garden. \nNon-members: Suggested donation of $5. 
URL:https://www.growtogethergarden.org/event/the-sustenance-of-life-bread
LOCATION:Heber-Overgaard Fire District\, 2061 Lumber2061 Lumber Valley Rd\,\, Overgaard\, 85933\, United States
ORGANIZER;CN="H/O Community Garden":MAILTO:dig@growtogethergarden.org
END:VEVENT
BEGIN:VEVENT
DTSTART;TZID=UTC:20231118T140000
DTEND;TZID=UTC:20231118T160000
DTSTAMP:20260423T091955
CREATED:20231101T014450Z
LAST-MODIFIED:20231101T044805Z
UID:10000020-1700316000-1700323200@www.growtogethergarden.org
SUMMARY:Hydroponic Gardening
DESCRIPTION:Register below. \nWant to grow fresh veggies year-round in your home? Let’s talk about Aeroponics & Hydroponics!\n\n\nAeroponics & Hydroponics: Commonalities & Differences\nWhy a Tower Garden?\nBasic Components and Operation\nBenefits and Challenges\n\n\n\nParticipate in the Salad Jar Social at the end of class!\n\n\n\n\n\nBring your own clean pint jar with a cover.\nBring two fun salad toppings to share with everyone.\nNina will provide the beautiful\, fresh-grown greens!\nTake home a tasty Salad in a Jar!\n\n\n\nOur Speaker: Nina Triolo\n\n\n\nI am a full-time resident of Heber/Overgaard. My husband\, Tom\, and I fell in love with this area 8 years ago. I am a retired educator and worked previously in the corporate world after graduating from the University of CA\, Riverside\, with a BS in Business Administration. Combined\, Tom and I have four adult children in CA and NY and three grandchildren in each state. I’m grateful for opportunities to serve our community in helpful and meaningful ways. I enjoy serving on the hospitality and greeting teams in my local church. I joined the Mogollon Medical Board to help serve and expand medical care in Heber-Overgaard. I’m a friend of our HOCRN GrowTogether Community Garden. Physical labor\, as well as class participation and teaching have been enjoyable challenges for me. I recently became a partner with JPTower Garden company because I believe aeroponic growing is a science-based solution to many challenging growing environments and a healthy\, fresh food source with generous opportunities for school grants and community participation. Let’s grow!!!\n\n\n\nSign-Up Today!\n\nExchange: Free for Garden Members + Friends of the Garden. \nNon-members: Suggested donation of $5. 
URL:https://www.growtogethergarden.org/event/hydroponic-gardening
LOCATION:Heber-Overgaard Fire District\, 2061 Lumber2061 Lumber Valley Rd\,\, Overgaard\, 85933\, United States
ORGANIZER;CN="H/O Community Garden":MAILTO:dig@growtogethergarden.org
END:VEVENT
END:VCALENDAR