BEGIN:VCALENDAR
VERSION:2.0
PRODID:-//GrowTogether Garden - ECPv6.15.17.1//NONSGML v1.0//EN
CALSCALE:GREGORIAN
METHOD:PUBLISH
X-ORIGINAL-URL:https://www.growtogethergarden.org
X-WR-CALDESC:Events for GrowTogether Garden
REFRESH-INTERVAL;VALUE=DURATION:PT1H
X-Robots-Tag:noindex
X-PUBLISHED-TTL:PT1H
BEGIN:VTIMEZONE
TZID:UTC
BEGIN:STANDARD
TZOFFSETFROM:+0000
TZOFFSETTO:+0000
TZNAME:UTC
DTSTART:20230101T000000
END:STANDARD
END:VTIMEZONE
BEGIN:VEVENT
DTSTART;TZID=UTC:20240810T080000
DTEND;TZID=UTC:20240810T090000
DTSTAMP:20260422T051412
CREATED:20240807T021217Z
LAST-MODIFIED:20240807T021232Z
UID:10000049-1723276800-1723280400@www.growtogethergarden.org
SUMMARY:Garden Work Day!
DESCRIPTION:Please help us do a bit of weeding! Bring some gloves and join us at 8:00 am in the garden. \nThis is a great way to fulfill your volunteer hours as a member or friend of the garden. All are welcome!!
URL:https://www.growtogethergarden.org/event/garden-work-day
LOCATION:GrowTogether Garden\, 3450 Mustang\, Heber\, AZ\, 85928\, United States
ORGANIZER;CN="H/O Community Garden":MAILTO:dig@growtogethergarden.org
END:VEVENT
BEGIN:VEVENT
DTSTART;TZID=UTC:20240813T163000
DTEND;TZID=UTC:20240813T183000
DTSTAMP:20260422T051412
CREATED:20240702T232054Z
LAST-MODIFIED:20240803T044429Z
UID:10000044-1723566600-1723573800@www.growtogethergarden.org
SUMMARY:Evening & Education in the Garden!
DESCRIPTION:Join fellow gardeners for an “Evening & Education in the Garden.” Bring a snack to share and your own chairs and we’ll enjoy the fellowship of our gardening friends! See you there! \nGrowTogether HOCRN Community Garden\, 3450 Mustang\, Heber\, AZ \nTuesday\, August 13\, 2024 \nEducation Round Table 4:30 – 5:30 p.m. \nGarden Open House & Social 5:00 – 6:30 p.m \nFREE EVENT OPEN TO THE PUBLIC! \nCome with your gardening questions and get advice from experienced area gardeners. We will have tables you can visit for information on various topics such as insect management\, growing tomatoes\, starting your own plants\, growing fruit trees\, herbs\, composting\, building healthy soil\, preserving your harvest\, and more! If you’d like to join in on the social time\, bring an appetizer to share and make friends with other gardeners\, or just wander around and enjoy the garden. If you’d like to submit a question so we’re prepared ahead of time\, please do so here.
URL:https://www.growtogethergarden.org/event/evening-in-the-garden
LOCATION:GrowTogether Garden\, 3450 Mustang\, Heber\, AZ\, 85928\, United States
ORGANIZER;CN="H/O Community Garden":MAILTO:dig@growtogethergarden.org
END:VEVENT
BEGIN:VEVENT
DTSTART;TZID=UTC:20240824T140000
DTEND;TZID=UTC:20240824T153000
DTSTAMP:20260422T051412
CREATED:20240307T054241Z
LAST-MODIFIED:20240821T061832Z
UID:10000032-1724508000-1724513400@www.growtogethergarden.org
SUMMARY:Preserving Your Harvest
DESCRIPTION:Hello Gardeners + Friends of the Garden\,\n\n\nHave a bountiful harvest but don’t know what to do with it? Bonnie Leedy will provide a high-level view of the many possibilities\, including canning\, dehydrating\, freeze-drying\, and fermenting. Come to the next GrowTogether HOCRN Community Garden Class to learn about your options and get an introduction to each. Join us for our upcoming class: Preserving Your Harvest!\n\n \nDate: Saturday\, August 17th\, 2024\nTime: 2:00-3:30 PM\nLocation: Heber-Overgaard Fire Station\n\nLimited to 50 attendees. \n\nRegister Today! \n \nYou will learn:\n\n\nthe whys and hows of preserving the most common fruits and vegetables\nintroduction to preserving methods for freezing\, canning\, dehydrating\, fermenting\, and cold storage with the pros and cons of each\n\n\nAbout the Speaker:   Bonnie Leedy is the CEO of School Webmasters\, but in her “spare” time\, she loves gardening\, preserving her harvest\, baking bread\, and livin’ life in the rural countryside. Come meet her at class! \nExchange: Free for Garden Members + Friends of the Garden. \nNon-members: Suggested donation of $5. \n\nNot a Friend of the Garden Yet? Sign Up Here
URL:https://www.growtogethergarden.org/event/preserving-your-harvest-2
LOCATION:Heber-Overgaard Fire District\, 2061 Lumber2061 Lumber Valley Rd\,\, Overgaard\, 85933\, United States
ORGANIZER;CN="H/O Community Garden":MAILTO:dig@growtogethergarden.org
END:VEVENT
END:VCALENDAR