BEGIN:VCALENDAR
VERSION:2.0
PRODID:-//GrowTogether Garden - ECPv6.15.17.1//NONSGML v1.0//EN
CALSCALE:GREGORIAN
METHOD:PUBLISH
X-WR-CALNAME:GrowTogether Garden
X-ORIGINAL-URL:https://www.growtogethergarden.org
X-WR-CALDESC:Events for GrowTogether Garden
REFRESH-INTERVAL;VALUE=DURATION:PT1H
X-Robots-Tag:noindex
X-PUBLISHED-TTL:PT1H
BEGIN:VTIMEZONE
TZID:America/Phoenix
BEGIN:STANDARD
TZOFFSETFROM:-0700
TZOFFSETTO:-0700
TZNAME:MST
DTSTART:20240101T000000
END:STANDARD
END:VTIMEZONE
BEGIN:VEVENT
DTSTART;TZID=America/Phoenix:20250322T090000
DTEND;TZID=America/Phoenix:20250322T120000
DTSTAMP:20260421T190218
CREATED:20250124T225006Z
LAST-MODIFIED:20250318T194157Z
UID:10000055-1742634000-1742644800@www.growtogethergarden.org
SUMMARY:Spring Garden Prep & Flower Planting! Build a Herb Spiral Workshop & Tool Sharpening
DESCRIPTION:Join us for our upcoming activity: Community Garden Spring Clean-Up\, Build an Herb Spiral Workshop\, & Tool Sharpening!\n\n \nDate: Saturday\, March 22\, 2025\nTime: 9:00 a.m. – 12 noon\nLocation: HOCRN Community Garden\, 3450 Mustang\, Heber\, AZ\n\nWhat is Happening?\n\n\nStarting at 9 a.m.\, please help us get the garden in shape for the season! We will be doing general clean-up and working on a lovely flower bed along the front fence. We want to make sure our garden is beautiful for all to enjoy!\nStarting at 10:30 a.m.\, “PermaDave” Kincaid will lead us in an Herb Spiral Workshop! Learn about building an herb spiral while helping us add a community herb spiral to the garden’s center. We will have an informational handout to send home with participants.\n9 a.m. – noon: Bring those dull hoes\, trowels\, shovels\, etc.! Richard will be set up for all your Knife and Tool sharpening needs\, so you won’t have to work so hard! Pricing for sharpening is: hand pruners $3-4\, shovels $8-10\, hand trowels $4-10\, hoes $4\, manual hedge trimmers $10-12\, electric hedge trimmers $20.\nWhat to Bring/Wear: Closed-toe shoes and work gloves\, drinking water\, and a chair for resting or listening to the herb spiral teaching. If you have any river rocks or cardboard to donate for the herb spiral\, that would be great! Also\, bring a rake or other favorite garden tool if you’d like. Oh\, and don’t forget a great big Spring smile!\n\n\nPlease RSVP by registering below. \nSign-up Today!
URL:https://www.growtogethergarden.org/event/spring-garden-prep-flower-planting
LOCATION:GrowTogether Garden\, 3450 Mustang\, Heber\, AZ\, 85928\, United States
ORGANIZER;CN="H/O Community Garden":MAILTO:dig@growtogethergarden.org
END:VEVENT
END:VCALENDAR