BEGIN:VCALENDAR
VERSION:2.0
PRODID:-//GrowTogether Garden - ECPv6.15.17.1//NONSGML v1.0//EN
CALSCALE:GREGORIAN
METHOD:PUBLISH
X-ORIGINAL-URL:https://www.growtogethergarden.org
X-WR-CALDESC:Events for GrowTogether Garden
REFRESH-INTERVAL;VALUE=DURATION:PT1H
X-Robots-Tag:noindex
X-PUBLISHED-TTL:PT1H
BEGIN:VTIMEZONE
TZID:America/Phoenix
BEGIN:STANDARD
TZOFFSETFROM:-0700
TZOFFSETTO:-0700
TZNAME:MST
DTSTART:20240101T000000
END:STANDARD
END:VTIMEZONE
BEGIN:VEVENT
DTSTART;TZID=America/Phoenix:20250405T140000
DTEND;TZID=America/Phoenix:20250405T153000
DTSTAMP:20260421T174549
CREATED:20250124T225243Z
LAST-MODIFIED:20250318T181908Z
UID:10000056-1743861600-1743867000@www.growtogethergarden.org
SUMMARY:Sustainable Soil: The Simple Way to Keep it Fertile
DESCRIPTION:Join us for our upcoming class: Sustainable Soil: The Simple Way to Keep it Fertile\n\n \nDate: Saturday\, April 5th\, 2025\nTime: 2:00-3:30 PM\nLocation:  GrowTogether Community Garden\,  3450 Mustang\, Heber\, AZ\n\nLimited to 40 attendees. \n\nA GREAT GROWER is always GROWING SOIL—In this hands on\, interactive class you will learn how to simplify the process and leave with the confidence to have sustainable success!!\n\nSave Time & Spare the grief— learn from Leti’s mistakes and successes:\n\nSee potential\nSecret to soil testing\nSimplified lasagna bed\nSuccessful springtime cover crop\nSpend less by salvaging what you have\n\n**Bring a chair if you’d like to sit\, and pen & paper for notes.\n\nSign-up Today!\n\nAbout the Speaker:   Leti Porter is an Organic Grower and jokes that she really is in the business of growing people\, mostly kids. She has been growing her entire life thanks to her dad who took the time to teach her when she was young that there was so much more to gardening than just pulling weeds. She isn’t a soil scientist but is grateful that the science is finally catching up to what her spirit already knew… healthy soil heals.
URL:https://www.growtogethergarden.org/event/sustainable-soil
LOCATION:GrowTogether Garden\, 3450 Mustang\, Heber\, AZ\, 85928\, United States
ORGANIZER;CN="H/O Community Garden":MAILTO:dig@growtogethergarden.org
END:VEVENT
BEGIN:VEVENT
DTSTART;TZID=America/Phoenix:20250419T140000
DTEND;TZID=America/Phoenix:20250419T153000
DTSTAMP:20260421T174549
CREATED:20250124T225414Z
LAST-MODIFIED:20250318T193604Z
UID:10000057-1745071200-1745076600@www.growtogethergarden.org
SUMMARY:10 Strategies for Vegetable Abundance THIS YEAR!
DESCRIPTION:Join us for our upcoming class: 10 Strategies for Vegetable Abundance!\n\n \nDate: Saturday\, April 19\, 2024\nTime: 2:00-3:30 PM\nLocation: Heber-Overgaard Fire Station\,  2061 Lumber Valley Rd\, Overgaard\, 85933\n\nLimited to 50 attendees. \n\nRegister below. \n \nWant to save some money\, and have more plant choices than you can find in the stores? Learn to successfully start your own plants for the garden!\n\nYou will learn:\n\nFundamentals for a Successful Vegetable Garden \n\nClearing up Confusing Terms\nArizona Gardening Seasons (what to plant when!)\nSeed Starting vs. Store Bought\nCreate an Edible Landscape\nPollination\nSuccession Planting\nCrop Rotation\nTomato &amp; Pepper Success\nVegetable Abundance Strategies (Dehydrate\, Freeze\, Can\, etc.)\n\n\nSign-up Today!\nAbout the Speaker:  Michele McGuinness is a Maricopa Master Gardener and is currently studying to be a Master Gardener in the high country of Arizona. A long-time educator with a joy for all things that you can grow to eat\, she loves seed starting\, vegetable growing\, and managing pests in the garden. \n \nExchange: Free for Garden Members + Friends of the Garden. \nNon-members: Suggested donation of $5. 
URL:https://www.growtogethergarden.org/event/10-strategies-for-vegetable-abundance-this-year
LOCATION:Heber-Overgaard Fire District\, 2061 Lumber2061 Lumber Valley Rd\,\, Overgaard\, 85933\, United States
ORGANIZER;CN="H/O Community Garden":MAILTO:dig@growtogethergarden.org
END:VEVENT
END:VCALENDAR