BEGIN:VCALENDAR
VERSION:2.0
PRODID:-//GrowTogether Garden - ECPv6.15.17.1//NONSGML v1.0//EN
CALSCALE:GREGORIAN
METHOD:PUBLISH
X-WR-CALNAME:GrowTogether Garden
X-ORIGINAL-URL:https://www.growtogethergarden.org
X-WR-CALDESC:Events for GrowTogether Garden
REFRESH-INTERVAL;VALUE=DURATION:PT1H
X-Robots-Tag:noindex
X-PUBLISHED-TTL:PT1H
BEGIN:VTIMEZONE
TZID:America/Phoenix
BEGIN:STANDARD
TZOFFSETFROM:-0700
TZOFFSETTO:-0700
TZNAME:MST
DTSTART:20240101T000000
END:STANDARD
END:VTIMEZONE
BEGIN:VEVENT
DTSTART;TZID=America/Phoenix:20250517T070000
DTEND;TZID=America/Phoenix:20250517T110000
DTSTAMP:20260421T161731
CREATED:20250124T224101Z
LAST-MODIFIED:20250426T052356Z
UID:10000052-1747465200-1747479600@www.growtogethergarden.org
SUMMARY:Spring Plant Sale
DESCRIPTION:Come to the Community Garden and purchase plants and flowers for your garden and sharpen your gardening tools! Proceeds will benefit the community garden. Just some of the services available: \n\nPlants: cool and warm weather vegetables\, flowers\, herbs (grown locally and ready for planting)\nEden Juice nutrients and mulch\nProfessional tool and knife sharpening (hand pruners $3-4\, trowels $4-10\, hoes $4\, shovels $8-10\, manual hedge trimmers $10-12\, electric hedge trimmers $20)\nWorm tea\n\nShow up early for the best plant selections! \n4″ pots = $4 / 6 packs = $7 \n 
URL:https://www.growtogethergarden.org/event/spring-plant-sale
LOCATION:GrowTogether Garden\, 3450 Mustang\, Heber\, AZ\, 85928\, United States
ORGANIZER;CN="H/O Community Garden":MAILTO:dig@growtogethergarden.org
END:VEVENT
BEGIN:VEVENT
DTSTART;TZID=America/Phoenix:20250527T090000
DTEND;TZID=America/Phoenix:20250527T100000
DTSTAMP:20260421T161731
CREATED:20250124T231958Z
LAST-MODIFIED:20250414T183857Z
UID:10000066-1748336400-1748340000@www.growtogethergarden.org
SUMMARY:Kids Grow in the Garden: Painting in the Garden
DESCRIPTION:This in-garden class is for ages 5 and up. Bring the kids and we’ll help them be creative. We’ll be painting in the garden because every garden needs a wind chime!! \nTime: 9:00 – 10:00 am\nWhere: Community Garden\, 3450 Mustang Ave. Heber\, Arizona (located in the field between the high school and the bus barn)
URL:https://www.growtogethergarden.org/event/kids-in-the-garden-seeds-are-magic
LOCATION:GrowTogether Garden\, 3450 Mustang\, Heber\, AZ\, 85928\, United States
ORGANIZER;CN="H/O Community Garden":MAILTO:dig@growtogethergarden.org
END:VEVENT
BEGIN:VEVENT
DTSTART;TZID=America/Phoenix:20250531T140000
DTEND;TZID=America/Phoenix:20250531T153000
DTSTAMP:20260421T161731
CREATED:20250124T225840Z
LAST-MODIFIED:20250527T214629Z
UID:10000058-1748700000-1748705400@www.growtogethergarden.org
SUMMARY:Top of the Rim Flower Tips: perennials\, native flowers\, annuals
DESCRIPTION:Join us for our upcoming class: Top of the Rim Flower Tips: Perennials\, Annuals\, and Natives\n\n \nDate: Saturday\, May 31\, 2025\nTime: 2:00-3:30 PM\nLocation: Heber-Overgaard Fire Station\, 2061 Lumber Valley Rd.\, Overgaard\, AZ 85933\nLimited to 40 attendees. \n\n\nLooking for ways to beautify your space\, and not sure what will work best here? Don’t know whether you should use perennials\, annuals\, native plants\, or a combination? Let us help! In this hands-on class in the garden\, we’ll review the three types\, tell you what grows easily here (and some that are more challenging)\, and give you strategies to be successful so you can enjoy the beautiful fruits of your labor.\n\nWe will:\n\nTeach the differences between perennials\, annuals\, and native species\nHighlight pros and cons of the three types\nDiscuss the important roles of flowering plants in your vegetable garden\nProvide a list of plants that grow well here\nShare tips and tricks to get you flowering\nDo a little planting and send you home with some flowery gifts from\n\n\nAbout the Speakers: Kayla McKernan\, Bonnie Leedy\, and Katy Neild do a lot of gardening up here on the Rim\, and one of the things we all love is flowers! They’re not only beautiful but also perform important functions in the vegetable garden. Join us for this fun and useful class! \nSign up today! \nSign up today!
URL:https://www.growtogethergarden.org/event/top-of-the-rim-flower-tips-perennials-native-flowers-annuals
LOCATION:Heber-Overgaard Fire District\, 2061 Lumber2061 Lumber Valley Rd\,\, Overgaard\, 85933\, United States
ORGANIZER;CN="H/O Community Garden":MAILTO:dig@growtogethergarden.org
END:VEVENT
END:VCALENDAR