BEGIN:VCALENDAR
VERSION:2.0
PRODID:-//GrowTogether Garden - ECPv6.15.17.1//NONSGML v1.0//EN
CALSCALE:GREGORIAN
METHOD:PUBLISH
X-ORIGINAL-URL:https://www.growtogethergarden.org
X-WR-CALDESC:Events for GrowTogether Garden
REFRESH-INTERVAL;VALUE=DURATION:PT1H
X-Robots-Tag:noindex
X-PUBLISHED-TTL:PT1H
BEGIN:VTIMEZONE
TZID:America/Phoenix
BEGIN:STANDARD
TZOFFSETFROM:-0700
TZOFFSETTO:-0700
TZNAME:MST
DTSTART:20240101T000000
END:STANDARD
END:VTIMEZONE
BEGIN:VEVENT
DTSTART;TZID=America/Phoenix:20250607T100000
DTEND;TZID=America/Phoenix:20250607T130000
DTSTAMP:20260421T150215
CREATED:20250124T225946Z
LAST-MODIFIED:20250319T203238Z
UID:10000059-1749290400-1749301200@www.growtogethergarden.org
SUMMARY:Community Resource Network Day
DESCRIPTION:Join us at Community Resource Day on Saturday\, June 7\, 2025\n10 am to 1 pm\, Tall Timbers Park\, Overgaard\, AZ \n\nFREE Hot Dogs & Ice Cream\nActivity for Kids\nDrawings too!\n\nOver 50 non-profit organizations serving the Heber-Overgaard community will be represented. Come and enjoy the day and see all our community has to offer!
URL:https://www.growtogethergarden.org/event/community-resource-network-day
LOCATION:Tall Timbers Park\, AZ 260\, Heber\, AZ\, 85928\, United States
END:VEVENT
BEGIN:VEVENT
DTSTART;TZID=America/Phoenix:20250610T090000
DTEND;TZID=America/Phoenix:20250610T100000
DTSTAMP:20260421T150215
CREATED:20250124T232128Z
LAST-MODIFIED:20250602T172744Z
UID:10000067-1749546000-1749549600@www.growtogethergarden.org
SUMMARY:Kids Grow in the Garden: Seeds are Magic!
DESCRIPTION:Bring the kids (ages 5 and up) to the community garden where they will learn what makes seeds so special! \n\nplanting a flower bed for our community garden\nplant seeds in individual mini-hot houses to take home so they can watch the process\ngames and a raffle\n\nTime: 9:00 – 10:00 am\nWhere: Community Garden\, 3450 Mustang Ave. Heber\, AZ (located in the field between the high school and the bus barn)
URL:https://www.growtogethergarden.org/event/kids-grow-in-the-garden-painting-in-the-garden
LOCATION:GrowTogether Garden\, 3450 Mustang\, Heber\, AZ\, 85928\, United States
ORGANIZER;CN="H/O Community Garden":MAILTO:dig@growtogethergarden.org
END:VEVENT
BEGIN:VEVENT
DTSTART;TZID=America/Phoenix:20250628T140000
DTEND;TZID=America/Phoenix:20250628T153000
DTSTAMP:20260421T150215
CREATED:20250124T230251Z
LAST-MODIFIED:20250318T044625Z
UID:10000060-1751119200-1751124600@www.growtogethergarden.org
SUMMARY:Mushroom Cultivation: Innoculation to Harvest
DESCRIPTION:Join us for our upcoming class:  Mushroom Cultivation: Inoculation to Harvest \n\n \nDate: Saturday\, June 28th\, 2025\nTime: 2:00-3:30 PM\nLocation:  Heber-Overgaard Fire Department\,  2061 Lumber Valley Rd\, Overgaard\, AZ\n\nLimited to 40 attendees. \n\nAn overview of the process our Farm uses to cultivate gourmet mushrooms.\n\nWe will learn:\n\n\nThe gourmet mushrooms we’ve grown and why we grow them!\nThe equipment required for successful consistent cultivation.\nThe varieties we grow and the ingredients to them.\nHow long it takes to grow the varieties we chose.\nHarvest\, waste management\, and recipes to enjoy.\n\nSign-up here!\n\n\nAbout the Speaker\, Nichole Peters:   Beyond organizing the wonderful Pinedale Farmer’s Market\, Nichole and her husband have founded a successful local mushroom farm. We’ve found mushrooms somewhat difficult to grow\, but it’s possible with the right equipment. It’s been a success\, and our customers love them very much. They come from far and wide to get them! We can grow high-quality\, tasty protein in a relatively small space quickly. It’s amazing 😉 We hope you enjoy them too!
URL:https://www.growtogethergarden.org/event/mushroom-cultivation-innoculation-to-harvest
LOCATION:Heber-Overgaard Fire District\, 2061 Lumber2061 Lumber Valley Rd\,\, Overgaard\, 85933\, United States
ORGANIZER;CN="H/O Community Garden":MAILTO:dig@growtogethergarden.org
END:VEVENT
END:VCALENDAR