BEGIN:VCALENDAR
VERSION:2.0
PRODID:-//GrowTogether Garden - ECPv6.15.17.1//NONSGML v1.0//EN
CALSCALE:GREGORIAN
METHOD:PUBLISH
X-ORIGINAL-URL:https://www.growtogethergarden.org
X-WR-CALDESC:Events for GrowTogether Garden
REFRESH-INTERVAL;VALUE=DURATION:PT1H
X-Robots-Tag:noindex
X-PUBLISHED-TTL:PT1H
BEGIN:VTIMEZONE
TZID:America/Phoenix
BEGIN:STANDARD
TZOFFSETFROM:-0700
TZOFFSETTO:-0700
TZNAME:MST
DTSTART:20240101T000000
END:STANDARD
END:VTIMEZONE
BEGIN:VEVENT
DTSTART;TZID=America/Phoenix:20250920T090000
DTEND;TZID=America/Phoenix:20250920T120000
DTSTAMP:20260421T121435
CREATED:20250124T231322Z
LAST-MODIFIED:20250805T002136Z
UID:10000063-1758358800-1758369600@www.growtogethergarden.org
SUMMARY:Native Plant Foraging (Field Trip Class)
DESCRIPTION:Join us for our upcoming class: Top of the Rim Foraging Field Trip\n\nDate: Saturday\, September 20\, 2025\nTime: 9:00 a.m. – 12:00 p.m. \nLocation: Meeting place in Heber-Overgaard area will be sent to registered participants prior to the class. \nLimited to 30 attendees. \nRegister today!\nLearn to forage basic native medicinal herbs located in our backyards and throughout our abundant national forests. \nYou will learn: \n\nIdentify native plants/species\nUsing books/field guides\nUsing foraging tools\nUnderstanding “leave no trace”\nForage native plants\nStorage/use of native plants\n\nItems to Bring: Small hand pruners\, garden shovel (small)\, garden scissors\, Ziploc/grocery bags\, marker\, hiking gear\, water\, plant field guide (if you have one).\nAbout the Speakers: Kayla McKernan has been a Mogollon Rim native for over 35 years. Since childhood\, she’s had a profound love for our forest and lakes thanks to grandparents who have been here since the 1960s. Her life is about gardening and providing a natural life for my family. However\, her passion is outdoor adventure and turning those adventures into beneficial substances for daily living. These adventures have occurred for over 20 years and always include a foraging trip across the Mogollon Rim area. Throughout these years\, she has gained knowledge about the native plants and the benefits these plants provide. Josh Sotelo is a Mogollon Rim native for over 40 years. He also profoundly loves our forests throughout the Mogollon Rim\, which he started exploring with my father in the late 1980s. Both Kayla and Josh have been foraging and exploring our forests for 20 years\, gaining knowledge in our area and its many benefits. \n\nExchange: Free for Garden Members + Friends of the Garden. \nNon-members: Suggested donation of $5. 
URL:https://www.growtogethergarden.org/event/herb-foraging-field-trip-class
ORGANIZER;CN="H/O Community Garden":MAILTO:dig@growtogethergarden.org
END:VEVENT
END:VCALENDAR