BEGIN:VCALENDAR
VERSION:2.0
PRODID:-//GrowTogether Garden - ECPv6.15.17.1//NONSGML v1.0//EN
CALSCALE:GREGORIAN
METHOD:PUBLISH
X-ORIGINAL-URL:https://www.growtogethergarden.org
X-WR-CALDESC:Events for GrowTogether Garden
REFRESH-INTERVAL;VALUE=DURATION:PT1H
X-Robots-Tag:noindex
X-PUBLISHED-TTL:PT1H
BEGIN:VTIMEZONE
TZID:America/Phoenix
BEGIN:STANDARD
TZOFFSETFROM:-0700
TZOFFSETTO:-0700
TZNAME:MST
DTSTART:20240101T000000
END:STANDARD
END:VTIMEZONE
BEGIN:VEVENT
DTSTART;TZID=America/Phoenix:20251004T140000
DTEND;TZID=America/Phoenix:20251004T153000
DTSTAMP:20260421T080652
CREATED:20250124T231615Z
LAST-MODIFIED:20250416T182110Z
UID:10000064-1759586400-1759591800@www.growtogethergarden.org
SUMMARY:Foraging Follow-up: You picked them\, now what?
DESCRIPTION:Join us for our upcoming class: Foraging Follow-Up: You Gathered\, Now What?\n\nDate: Saturday\, October 4\, 2025\nTime: 2:00 p.m. – 3:30 p.m.\nLocation: The meeting place in the Heber-Overgaard area will be sent to registered participants prior to the class. This class is intended as a follow-up for those who attend the Top of the Rim Foraging Field Trip class. \nLimited to 30 attendees. \nRegister Today!\nLearn to forage basic native medicinal herbs located in our backyards and throughout our abundant national forests. \nYou will learn: \n\nOverview of material\, uses\, and facts\nOverview of recipe\nPreparation of medicinal material\nTake-home prepared recipe and enjoy\n\nItems to Bring: To be announced.\nAbout the Speakers: Kayla McKernan has been a Mogollon Rim native for over 35 years. Since childhood\, she’s had a profound love for our forest and lakes\, thanks to her grandparents who have been here since the 1960s. Her life is about gardening and providing a natural life for my family. However\, her passion is outdoor adventure and turning those adventures into beneficial substances for daily living. These adventures have occurred for over 20 years\, including a foraging trip across the Mogollon Rim area. Throughout these years\, she has gained knowledge about the native plants and the benefits these plants provide. Josh Sotelo has been a Mogollon Rim native for over 40 years. He also profoundly loves our forests throughout the Mogollon Rim\, which he started exploring with my father in the late 1980s. Kayla and Josh have been foraging and exploring our forests for 20 years\, gaining knowledge in our area and its many benefits. \n\nExchange: Free for Garden Members + Friends of the Garden. \nNon-members: Suggested donation of $5. 
URL:https://www.growtogethergarden.org/event/foraging-follow-up-you-picked-them-now-what
LOCATION:Heber-Overgaard Fire District\, 2061 Lumber2061 Lumber Valley Rd\,\, Overgaard\, 85933\, United States
ORGANIZER;CN="H/O Community Garden":MAILTO:dig@growtogethergarden.org
END:VEVENT
END:VCALENDAR