BEGIN:VCALENDAR
VERSION:2.0
PRODID:-//GrowTogether Garden - ECPv6.15.17.1//NONSGML v1.0//EN
CALSCALE:GREGORIAN
METHOD:PUBLISH
X-WR-CALNAME:GrowTogether Garden
X-ORIGINAL-URL:https://www.growtogethergarden.org
X-WR-CALDESC:Events for GrowTogether Garden
REFRESH-INTERVAL;VALUE=DURATION:PT1H
X-Robots-Tag:noindex
X-PUBLISHED-TTL:PT1H
BEGIN:VTIMEZONE
TZID:America/Phoenix
BEGIN:STANDARD
TZOFFSETFROM:-0700
TZOFFSETTO:-0700
TZNAME:MST
DTSTART:20240101T000000
END:STANDARD
END:VTIMEZONE
BEGIN:VEVENT
DTSTART;TZID=America/Phoenix:20251108T140000
DTEND;TZID=America/Phoenix:20251108T153000
DTSTAMP:20260421T064310
CREATED:20250124T231809Z
LAST-MODIFIED:20251104T230240Z
UID:10000065-1762610400-1762615800@www.growtogethergarden.org
SUMMARY:Cold Hands\, Warm Harvest: Ways to Grow Veggies in the Winter
DESCRIPTION:Join us for our upcoming class: Cold Hands\, Warm Harvest: Ways to Grow Veggies in the Winter\n\n \nDate: Saturday\, November 8\, 2025\nTime: 2:00-4:00 PM\nLocation: Heber-Overgaard Fire Department\, 2061 Lumber Valley Rd\, Overgaard\, AZ\nLimited to 30 attendees.\n\nRegister Today!\n\n\nWant to grow fresh veggies year-round\, inside & out? Let’s talk about options for every budget and situation!\n\n\n\nTowers (inside\, outside\, soil & aeroponic)\nSeason Extenders (cold frames\, cloches\, and covers)\nLights & Trays/Containers\nPots in a Sunny Window\nCold Hardy Vegetable Choices\nWhat Else Can You Think of? Come prepared to share!\n\n\nOur Speaker: Katy Neild\n\n\n\nKaty grew up gardening\, harvesting\, and preserving at her grandmother’s feet in Northern New York. Most of her gardening experience has been in New York and Pennsylvania\, but she has loved the challenge of learning to garden (more or less) successfully in Heber-Overgaard\, and recently became an Arizona Certified Master Gardener for High Elevations. She enjoys sharing her garden and skills with others.\n\n\n \nExchange: Free for Garden Members + Friends of the Garden. \n\nNon-members: Suggested donation of $5. 
URL:https://www.growtogethergarden.org/event/ways-to-grow-veggies-in-the-winter
LOCATION:Heber-Overgaard Fire District\, 2061 Lumber2061 Lumber Valley Rd\,\, Overgaard\, 85933\, United States
ORGANIZER;CN="H/O Community Garden":MAILTO:dig@growtogethergarden.org
END:VEVENT
BEGIN:VEVENT
DTSTART;TZID=America/Phoenix:20251113T090000
DTEND;TZID=America/Phoenix:20251113T120000
DTSTAMP:20260421T064310
CREATED:20251112T210656Z
LAST-MODIFIED:20251112T212122Z
UID:10000071-1763024400-1763035200@www.growtogethergarden.org
SUMMARY:Garden Work Day (volunteers welcome)
DESCRIPTION:Thursday\, November 13\, 2025\, from 9 am to noon. \nJoin us in the new garden (located behind Mountain Meadows Elementary) as we remove downed trees\, rake up debris and branches\, and prepare to move the grow beds to their new homes.\nBring: \n\nGloves\nWater (or beverage of choice\, NA of course)\nRake or shovel (if you want to help with moving dirt)\n\nSee you there!! Don’t forget that this counts toward your required volunteer hoursf!
URL:https://www.growtogethergarden.org/event/garden-work-day-volunteers-welcome
LOCATION:2181 Country Club Dr. Overgaard\, AZ 85933\, 2181 Country Club Dr.\, Overgaard\, 85933\, United States
END:VEVENT
END:VCALENDAR