BEGIN:VCALENDAR
VERSION:2.0
PRODID:-//GrowTogether Garden - ECPv6.15.17.1//NONSGML v1.0//EN
CALSCALE:GREGORIAN
METHOD:PUBLISH
X-ORIGINAL-URL:https://www.growtogethergarden.org
X-WR-CALDESC:Events for GrowTogether Garden
REFRESH-INTERVAL;VALUE=DURATION:PT1H
X-Robots-Tag:noindex
X-PUBLISHED-TTL:PT1H
BEGIN:VTIMEZONE
TZID:America/Phoenix
BEGIN:STANDARD
TZOFFSETFROM:-0700
TZOFFSETTO:-0700
TZNAME:MST
DTSTART:20250101T000000
END:STANDARD
END:VTIMEZONE
BEGIN:VEVENT
DTSTART;TZID=America/Phoenix:20260404T140000
DTEND;TZID=America/Phoenix:20260404T153000
DTSTAMP:20260421T010517
CREATED:20260224T203322Z
LAST-MODIFIED:20260224T204420Z
UID:10000080-1775311200-1775316600@www.growtogethergarden.org
SUMMARY:Seed Saving: Knowing What to Look For
DESCRIPTION:Proper seed saving requires patience; you must allow certain plants to fully mature and ‘go to seed’ rather than harvesting them prematurely. Here’s the class for you! \nDate: Saturday\, April 4\, 2026\nTime: 2-3:30 PM\nLocation: Heber-Overgaard Fire Station\, 2061 Lumber Valley Rd\, Overgaard\, AZ \nLimited to 40 attendees.   \nYou’ll learn: \nSaving seeds is vitally important.  Different plants have different types of seeds.  To save seeds effectively\, you must learn to identify when a plant is beginning to ‘bolt’ or go to seed.  Some plants have male and female parts\, and you need to know the difference so you can effectively have viable seeds saved for the following year. \n\nHow to harvest seeds\, dry seeds\, store seeds\, and know the difference between male and female plant parts.\nIdentify pests\, diseases\, and beneficial insects correctly\nPrevent problems by building healthy soil and reducing plant stress\nMonitor plants regularly and address issues early\nEncourage beneficial insects and maintain garden diversity\nUse safe\, natural solutions wisely—and know which home remedies actually work\n\nWhat to bring?  Your questions\, something to take notes with\, and a willingness to learn! \nAbout the Speakers: Lisa Kaiser has a college degree in Holistic Healthcare\, Farming\, and Healing through clean food.  She has nearly 10 years of experience growing on a commercial scale in the White Mountains and has had gardens most of her life.  She saves seeds EVERY season. \nRegister Today!\nExchange: Free for Garden Members + Friends of the Garden.\nNon-members: Suggested donation of $5. 
URL:https://www.growtogethergarden.org/event/seed-saving-knowing-what-to-look-for
LOCATION:Heber-Overgaard Fire District\, 2061 Lumber2061 Lumber Valley Rd\,\, Overgaard\, 85933\, United States
END:VEVENT
BEGIN:VEVENT
DTSTART;TZID=America/Phoenix:20260425T140000
DTEND;TZID=America/Phoenix:20260425T153000
DTSTAMP:20260421T010517
CREATED:20260224T052550Z
LAST-MODIFIED:20260224T053020Z
UID:10000079-1777125600-1777131000@www.growtogethergarden.org
SUMMARY:Vegetable Abundance: Grow More of What You Love—and Use
DESCRIPTION:Date: Saturday\, April 25\, 2026\nTime: 2:00-3:30 PM\nLocation: Heber-Overgaard Fire Station\, 2061 Lumber Valley Rd\, Overgaard\, AZ \nLimited to 40 attendees.  \nEver wish your garden would stop being polite and start being wildly productive? In this fun and information-packed class\, you’ll learn how to turn your garden into a steady source of fresh\, delicious vegetables—the ones you actually love to eat—using smart timing\, proven techniques\, and a few insider tricks that make a big difference in our high-country climate. \nYou’ll learn:  \nWhat you’ll learn: \n\nHow to grow prolific crops like tomatoes and peppers that produce so much you’ll start looking for new recipes (and friends to share with)\nThe secret to succession planting so something new is always ready to harvest (instead of everything ripening at once in one overwhelming week)\nHow to use vertical space\, smart spacing\, and intensive planting to grow more food without needing more garden beds\nWhen to plant cool-season and warm-season crops so your garden works with nature—not against it\nSimple\, proven tips that help prevent common frustrations and keep your plants healthy\, happy\, and productive all season long\n\nWhat to bring: A way to take notes and your questions! \nAbout the Speaker:  Bonnie Leedy is an Arizona High Elevation Master Gardener and passionate about learning how to garden successfully in the unique conditions of Arizona’s high country. Through her work at home and with the GrowTogether Community Garden\, she enjoys helping others grow with confidence using practical\, rewarding\, and sustainable methods. \nRegister Today!
URL:https://www.growtogethergarden.org/event/vegetable-abundance-grow-more-of-what-you-love-and-use
END:VEVENT
END:VCALENDAR