BEGIN:VCALENDAR
VERSION:2.0
PRODID:-//GrowTogether Garden - ECPv6.15.17.1//NONSGML v1.0//EN
CALSCALE:GREGORIAN
METHOD:PUBLISH
X-WR-CALNAME:GrowTogether Garden
X-ORIGINAL-URL:https://www.growtogethergarden.org
X-WR-CALDESC:Events for GrowTogether Garden
REFRESH-INTERVAL;VALUE=DURATION:PT1H
X-Robots-Tag:noindex
X-PUBLISHED-TTL:PT1H
BEGIN:VTIMEZONE
TZID:UTC
BEGIN:STANDARD
TZOFFSETFROM:+0000
TZOFFSETTO:+0000
TZNAME:UTC
DTSTART:20220101T000000
END:STANDARD
END:VTIMEZONE
BEGIN:VEVENT
DTSTART;TZID=UTC:20240615T090000
DTEND;TZID=UTC:20240615T130000
DTSTAMP:20260421T022645
CREATED:20240424T123443Z
LAST-MODIFIED:20240424T123716Z
UID:10000041-1718442000-1718456400@www.growtogethergarden.org
SUMMARY:Warm Weather Plant Sale & Open Garden Social
DESCRIPTION:Come and get your cool-season garden ready with flowers\, tomatoes\, herbs\, and winter squash! These great varieties are proven to do well here. They are grown for us locally and organically by the trusted community grower Rim Roots! \n\nMost plants will be a great size in 4″ pots. Some plants will be sold in six-packs.\n4″ pots will be $4\n\nWe will accept cash and credit cards. \nSee you all there! Tell your friends. Everyone is welcome. \nFlowers Galore: \n\nPetunias\nSnapdragons\nCalendula\nMarigold\npansies\nzinnias\nAlyssum\npoppies\nsunflowers\nhollyhocks\nwildflowers.\n\nHerbs:  \n\nbasil\nthyme\noregano\nand more\n\nThere is also a rainbow of tomato varieties. \nPeppers are sweet or hot; take your pick! \nThere are squash\, pumpkins\, watermelon\, beans\, and more!
URL:https://www.growtogethergarden.org/event/warm-weather-plant-sale
LOCATION:GrowTogether Garden\, 3450 Mustang\, Heber\, AZ\, 85928\, United States
ORGANIZER;CN="H/O Community Garden":MAILTO:dig@growtogethergarden.org
END:VEVENT
BEGIN:VEVENT
DTSTART;TZID=UTC:20240518T090000
DTEND;TZID=UTC:20240518T130000
DTSTAMP:20260421T022645
CREATED:20240307T053334Z
LAST-MODIFIED:20240504T034636Z
UID:10000027-1716022800-1716037200@www.growtogethergarden.org
SUMMARY:Plant Sale & Open Garden Social
DESCRIPTION:This is the first garden social and plant sale of the season! Come early to be sure you get what you want to buy\, and then stay for the fun! We will also have a garden snack and lemonade (and master gardeners present to answer your questions)! \nCool Weather Spring Plant Sale : \n\nAster\nPansies\nAlyssum\nCalendula\nBorage\nSweet Peas\nBroccoli (Emerald\, Gemini\, Millennium\, Calabrese)\nCabbage (green\, red and mini)\nGreens : Kale\, Lettuce\, Bok Choy\, Arugula\, Spinach (multiple varieties)\nCauliflower (Amazing\, Madonna\, Twister)\nDill\nPeas\nBeets\nOregano\nThyme\n\nCome and get a jump start on your garden with vegetable\, herb\, and flower plants that are ready to go in the ground and grow! Great varieties that are proven to do well here. Grown for us locally and organically by the trusted community grower Rim Roots! \n\nMost plants will be a great size in 4″ pots. Some things\, like lettuce and peas\, will be sold in six-packs.\n4″ pots will be $4\n\nWe will accept cash and credit cards. \nSee you all there! Tell your friends. Everyone is welcome. \nAlso\, there will be the magical Eden Juice for sale at this event as well! Prices below. Oh\, and ladybugs will also be available for purchase at $15 for 1500 ladybugs!
URL:https://www.growtogethergarden.org/event/plant-sale
LOCATION:GrowTogether Garden\, 3450 Mustang\, Heber\, AZ\, 85928\, United States
ORGANIZER;CN="H/O Community Garden":MAILTO:dig@growtogethergarden.org
END:VEVENT
BEGIN:VEVENT
DTSTART;TZID=UTC:20240511T090000
DTEND;TZID=UTC:20240511T230000
DTSTAMP:20260421T022645
CREATED:20240424T111650Z
LAST-MODIFIED:20240424T120509Z
UID:10000040-1715418000-1715468400@www.growtogethergarden.org
SUMMARY:Spring Clean Up! ALL VOLUNTEER DAY!
DESCRIPTION:Please come help us get the garden in shape for the season! We will be weeding\, checking irrigation for your beds\, and (fingers crossed) setting up our new shed! We want to make sure our garden is beautiful for the spring plant sale and open garden the following Saturday. \nIf you are a new garden member\, there will be an irrigation installation class. If you are an old hand you can still check out your irrigation and make sure everything works. \nWear closed-toe shoes and work gloves\, and bring water. If you have a rake or other tool that will help\, bring it. Oh\, and wear a smile! \nPlease RSVP here!
URL:https://www.growtogethergarden.org/event/spring-clean-up-all-volunteer-day
LOCATION:GrowTogether Garden\, 3450 Mustang\, Heber\, AZ\, 85928\, United States
ORGANIZER;CN="H/O Community Garden":MAILTO:dig@growtogethergarden.org
END:VEVENT
BEGIN:VEVENT
DTSTART;TZID=UTC:20230923T170000
DTEND;TZID=UTC:20230923T190000
DTSTAMP:20260421T022645
CREATED:20230918T010948Z
LAST-MODIFIED:20230918T010948Z
UID:10000018-1695488400-1695495600@www.growtogethergarden.org
SUMMARY:Garden Party Potluck
DESCRIPTION:Join us for a Garden Social! \nDate: Saturday\, Sept. 23\, 2023\nTime: 5:00 – 7:00 pm\nLocation: Community Garden \nSIGN UP Today!\nDetails: \n\nBYOC (chair) and BYOB (non-alcoholic – the garden is on school property).\nBring something to share (Main Dish\, Side Dish\, or Dessert).\nPlates\, plasticware\, napkins\, and lemonade will be provided.\nThere will be Door Prizes!!
URL:https://www.growtogethergarden.org/event/garden-party-potluck-2
LOCATION:GrowTogether Garden\, 3450 Mustang\, Heber\, AZ\, 85928\, United States
END:VEVENT
BEGIN:VEVENT
DTSTART;TZID=UTC:20230601T160000
DTEND;TZID=UTC:20230601T173000
DTSTAMP:20260421T022645
CREATED:20230509T104627Z
LAST-MODIFIED:20230509T110110Z
UID:10000004-1685635200-1685640600@www.growtogethergarden.org
SUMMARY:Irrigation Classes
DESCRIPTION:Irrigation Class \n\n\nThursday\, June 1st @ 4:00-5:30 PM\nRegister here: https://www.signupgenius.com/go/70a044aafae28a3fa7-irrigation1#/ \nIf you have trouble registering\, please reply to this email to let us know your attendance.\n\n\nWhen to amend your bed + water before the irrigation class? \n\n\nUntil we are sure to have our last freeze\, the water will be on at the Garden on Saturdays from 9AM – 4 PM so you can come water + amend your beds during  that time.\nIf there are any days during the week that our team will be there working on projects\, we will send an  email to let you know\, and you can come amend and water your garden beds.\nThis is to ensure that the water is properly drained + maintained until we are sure of the last freeze. If it freezes with water in the pipe\, then the pipes will break.
URL:https://www.growtogethergarden.org/event/irrigation-classes
LOCATION:GrowTogether Garden\, 3450 Mustang\, Heber\, AZ\, 85928\, United States
ORGANIZER;CN="H/O Community Garden":MAILTO:dig@growtogethergarden.org
END:VEVENT
BEGIN:VEVENT
DTSTART;TZID=UTC:20230527T083000
DTEND;TZID=UTC:20230527T103000
DTSTAMP:20260421T022645
CREATED:20230405T095046Z
LAST-MODIFIED:20230509T104439Z
UID:10000001-1685176200-1685183400@www.growtogethergarden.org
SUMMARY:Irrigation Classes
DESCRIPTION:Irrigation Classes – 2 Dates Available. Pick 1. \n\n\nSaturday\, May 27th @ 8:30 – 10:30 AM\nThursday\, June 1st @ 4:00-5:30 PM\nRegister here: https://www.signupgenius.com/go/70a044aafae28a3fa7-irrigation1#/ \nIf you have trouble registering\, please reply to this email to let us know your attendance.\n\n\nWhen to amend your bed + water before the irrigation class? \n\n\nUntil we are sure to have our last freeze\, the water will be on at the Garden on Saturdays from 9AM – 4 PM so you can come water + amend your beds during  that time.\nIf there are any days during the week that our team will be there working on projects\, we will send an  email to let you know\, and you can come amend and water your garden beds.\nThis is to ensure that the water is properly drained + maintained until we are sure of the last freeze. If it freezes with water in the pipe\, then the pipes will break.
URL:https://www.growtogethergarden.org/event/sample-event
LOCATION:GrowTogether Garden\, 3450 Mustang\, Heber\, AZ\, 85928\, United States
END:VEVENT
BEGIN:VEVENT
DTSTART;TZID=UTC:20230520T140000
DTEND;TZID=UTC:20230520T163000
DTSTAMP:20260421T022645
CREATED:20230405T095140Z
LAST-MODIFIED:20230509T091357Z
UID:10000003-1684591200-1684600200@www.growtogethergarden.org
SUMMARY:Composting + Vermicomposting Class
DESCRIPTION:Josh\, from R&K Home Center’s Garden Center\, will be teaching us how and why to build your own compost for your garden. Learn how to turn your dead dirt into living soil. \nDave\, owner of ____ Permaculture\, will then teach us how to use worms to create healthy soil that will help our plants thrive. \nClass is free to members and Friends of the Garden. $5 for non-members.
URL:https://www.growtogethergarden.org/event/composting-vermicomposting-class
LOCATION:GrowTogether Garden\, 3450 Mustang\, Heber\, AZ\, 85928\, United States
ORGANIZER;CN="H/O Community Garden":MAILTO:dig@growtogethergarden.org
END:VEVENT
BEGIN:VEVENT
DTSTART;TZID=UTC:20230513T090000
DTEND;TZID=UTC:20230513T120000
DTSTAMP:20260421T022645
CREATED:20230405T095110Z
LAST-MODIFIED:20230509T091928Z
UID:10000002-1683968400-1683979200@www.growtogethergarden.org
SUMMARY:Spread the love (and the mulch)
DESCRIPTION:This Saturday\, May 13th @ 9 AM-12 AM: Spread the LOVE + the MULCH\nCome help us spread mulch throughout the pathways of our new garden!\n\n\nLocation: GrowTogether Garden\nTime: Saturday\, May 13th\, 9-12 PM\nRegister Here or Reply to this email:  https://www.signupgenius.com/go/70A044AAFAE28A3FA7-come\n\n\nWhat to bring:\n\n\nLove\nRakes\nWater\nHat + Sunblock\nSnacks\nEnergy
URL:https://www.growtogethergarden.org/event/spread-the-mulch
LOCATION:GrowTogether Garden\, 3450 Mustang\, Heber\, AZ\, 85928\, United States
END:VEVENT
END:VCALENDAR