BEGIN:VCALENDAR
VERSION:2.0
PRODID:-//GrowTogether Garden - ECPv6.15.17.1//NONSGML v1.0//EN
CALSCALE:GREGORIAN
METHOD:PUBLISH
X-WR-CALNAME:GrowTogether Garden
X-ORIGINAL-URL:https://www.growtogethergarden.org
X-WR-CALDESC:Events for GrowTogether Garden
REFRESH-INTERVAL;VALUE=DURATION:PT1H
X-Robots-Tag:noindex
X-PUBLISHED-TTL:PT1H
BEGIN:VTIMEZONE
TZID:UTC
BEGIN:STANDARD
TZOFFSETFROM:+0000
TZOFFSETTO:+0000
TZNAME:UTC
DTSTART:20230101T000000
END:STANDARD
END:VTIMEZONE
BEGIN:VEVENT
DTSTART;TZID=UTC:20240404T190000
DTEND;TZID=UTC:20240404T203000
DTSTAMP:20260421T051306
CREATED:20240323T044127Z
LAST-MODIFIED:20240323T044808Z
UID:10000035-1712257200-1712262600@www.growtogethergarden.org
SUMMARY:Mountain Soil: helping it grow
DESCRIPTION:Learn the art of growing soil organically\n\nYou will learn:\n\n\nCommon mistakes/What to avoid\nHow to save time & money\nMinimalist approach—and must-haves\nOrganic vs Natural\nExplore soil science at its best with Don Jackson and find out why his boosted mulch really can work magic\n\n\n\nAbout the Speakers:   Leti Porter is an Organic Grower and jokes that she really is in the business of growing people\, mostly kids. She has been growing her entire life thanks to her dad\, who took the time to teach her when she was young that there was so much more to gardening than just pulling weeds. She believes that the earth has the ability to heal us and that it is our responsibility to protect it by growing things\, especially the soil beneath our feet. Don Jackson sees the big picture and is not only a gifted landscape designer but also a horticulturist who lives in the White Mountains. He is passionate about growing healthy soil and loves the science behind it\, and his wife who allows him to live his life playing in the dirt. He invites others to do the same. \nLimited to 40 attendees. \nExchange: Free for Garden Members + Friends of the Garden. \nNon-members: Suggested donation of $5.\n\nSign-up Today!
URL:https://www.growtogethergarden.org/event/mountain-soil-helping-it-grow
LOCATION:Rim County Library\, 3404 Mustang Ave\, Heber\, AZ\, 85928\, United States
ORGANIZER;CN="H/O Community Garden":MAILTO:dig@growtogethergarden.org
END:VEVENT
END:VCALENDAR