BEGIN:VCALENDAR
VERSION:2.0
PRODID:-//GrowTogether Garden - ECPv6.15.17.1//NONSGML v1.0//EN
CALSCALE:GREGORIAN
METHOD:PUBLISH
X-ORIGINAL-URL:https://www.growtogethergarden.org
X-WR-CALDESC:Events for GrowTogether Garden
REFRESH-INTERVAL;VALUE=DURATION:PT1H
X-Robots-Tag:noindex
X-PUBLISHED-TTL:PT1H
BEGIN:VTIMEZONE
TZID:America/Phoenix
BEGIN:STANDARD
TZOFFSETFROM:-0700
TZOFFSETTO:-0700
TZNAME:MST
DTSTART:20240101T000000
END:STANDARD
END:VTIMEZONE
BEGIN:VTIMEZONE
TZID:UTC
BEGIN:STANDARD
TZOFFSETFROM:+0000
TZOFFSETTO:+0000
TZNAME:UTC
DTSTART:20230101T000000
END:STANDARD
END:VTIMEZONE
BEGIN:VEVENT
DTSTART;TZID=America/Phoenix:20250607T100000
DTEND;TZID=America/Phoenix:20250607T130000
DTSTAMP:20260421T035740
CREATED:20250124T225946Z
LAST-MODIFIED:20250319T203238Z
UID:10000059-1749290400-1749301200@www.growtogethergarden.org
SUMMARY:Community Resource Network Day
DESCRIPTION:Join us at Community Resource Day on Saturday\, June 7\, 2025\n10 am to 1 pm\, Tall Timbers Park\, Overgaard\, AZ \n\nFREE Hot Dogs & Ice Cream\nActivity for Kids\nDrawings too!\n\nOver 50 non-profit organizations serving the Heber-Overgaard community will be represented. Come and enjoy the day and see all our community has to offer!
URL:https://www.growtogethergarden.org/event/community-resource-network-day
LOCATION:Tall Timbers Park\, AZ 260\, Heber\, AZ\, 85928\, United States
END:VEVENT
BEGIN:VEVENT
DTSTART;TZID=UTC:20240608T100000
DTEND;TZID=UTC:20240608T140000
DTSTAMP:20260421T035740
CREATED:20240323T050917Z
LAST-MODIFIED:20240323T055323Z
UID:10000036-1717840800-1717855200@www.growtogethergarden.org
SUMMARY:Ice Cream Social
DESCRIPTION:There will be food and beverages\, ice cream\, kid’s carnival games\, face painting\, raffles and highlighting you\, our community service partners. There will be loads of give away and raffles.  Activities for big kids will include bouncy houses\, volleyball\, pickleball and corn hole competitions plus a scaled down bouncy house and activities for the lil’ kids.   Kids of all ages won’t want to miss the cupcake walk.
URL:https://www.growtogethergarden.org/event/ice-cream-social
LOCATION:Tall Timbers Park\, AZ 260\, Heber\, AZ\, 85928\, United States
END:VEVENT
BEGIN:VEVENT
DTSTART;TZID=UTC:20240608T100000
DTEND;TZID=UTC:20240608T140000
DTSTAMP:20260421T035740
CREATED:20240307T053848Z
LAST-MODIFIED:20240402T024024Z
UID:10000029-1717840800-1717855200@www.growtogethergarden.org
SUMMARY:Community Resource Network Day
DESCRIPTION:
URL:https://www.growtogethergarden.org/event/community-resource-day
LOCATION:Tall Timbers Park\, AZ 260\, Heber\, AZ\, 85928\, United States
END:VEVENT
END:VCALENDAR